

BEGIN:VCALENDAR
VERSION:2.0
PRODID:-//Dynamic Drips - ECPv6.15.20//NONSGML v1.0//EN
CALSCALE:GREGORIAN
METHOD:PUBLISH
X-ORIGINAL-URL:https://dynamicdrips.com
X-WR-CALDESC:Events for Dynamic Drips
REFRESH-INTERVAL;VALUE=DURATION:PT1H
X-Robots-Tag:noindex
X-PUBLISHED-TTL:PT1H
BEGIN:VTIMEZONE
TZID:America/Chicago
BEGIN:DAYLIGHT
TZOFFSETFROM:-0600
TZOFFSETTO:-0500
TZNAME:CDT
DTSTART:20230312T080000
END:DAYLIGHT
BEGIN:STANDARD
TZOFFSETFROM:-0500
TZOFFSETTO:-0600
TZNAME:CST
DTSTART:20231105T070000
END:STANDARD
BEGIN:DAYLIGHT
TZOFFSETFROM:-0600
TZOFFSETTO:-0500
TZNAME:CDT
DTSTART:20240310T080000
END:DAYLIGHT
BEGIN:STANDARD
TZOFFSETFROM:-0500
TZOFFSETTO:-0600
TZNAME:CST
DTSTART:20241103T070000
END:STANDARD
BEGIN:DAYLIGHT
TZOFFSETFROM:-0600
TZOFFSETTO:-0500
TZNAME:CDT
DTSTART:20250309T080000
END:DAYLIGHT
BEGIN:STANDARD
TZOFFSETFROM:-0500
TZOFFSETTO:-0600
TZNAME:CST
DTSTART:20251102T070000
END:STANDARD
BEGIN:DAYLIGHT
TZOFFSETFROM:-0600
TZOFFSETTO:-0500
TZNAME:CDT
DTSTART:20260308T080000
END:DAYLIGHT
BEGIN:STANDARD
TZOFFSETFROM:-0500
TZOFFSETTO:-0600
TZNAME:CST
DTSTART:20261101T070000
END:STANDARD
END:VTIMEZONE
BEGIN:VEVENT
DTSTART;TZID=America/Chicago:20250416T100000
DTEND;TZID=America/Chicago:20250416T110000
DTSTAMP:20260422T121209
CREATED:20250407T193042Z
LAST-MODIFIED:20250411T015942Z
UID:10000241-1744797600-1744801200@dynamicdrips.com
SUMMARY:Prose Nails Salon - partnership planning
DESCRIPTION:
URL:https://dynamicdrips.com/event/prose-nails-salon-partnership-planning/
LOCATION:13135 Main St Suite 200\, Rogers\, MN\, United States
GEO:45.168896;-93.574586
END:VEVENT
BEGIN:VEVENT
DTSTART;TZID=America/Chicago:20241214T110000
DTEND;TZID=America/Chicago:20241214T140000
DTSTAMP:20260422T121209
CREATED:20241122T060149Z
LAST-MODIFIED:20241214T191542Z
UID:10000159-1734174000-1734184800@dynamicdrips.com
SUMMARY:Sip & shop- Prose
DESCRIPTION:
URL:https://dynamicdrips.com/event/sip-shop-prose/
LOCATION:13135 Main St Suite 200\, Rogers\, MN\, United States
GEO:45.168896;-93.574586
END:VEVENT
END:VCALENDAR