

BEGIN:VCALENDAR
VERSION:2.0
PRODID:-//Dynamic Drips - ECPv6.15.20//NONSGML v1.0//EN
CALSCALE:GREGORIAN
METHOD:PUBLISH
X-WR-CALNAME:Dynamic Drips
X-ORIGINAL-URL:https://dynamicdrips.com
X-WR-CALDESC:Events for Dynamic Drips
REFRESH-INTERVAL;VALUE=DURATION:PT1H
X-Robots-Tag:noindex
X-PUBLISHED-TTL:PT1H
BEGIN:VTIMEZONE
TZID:America/Chicago
BEGIN:DAYLIGHT
TZOFFSETFROM:-0600
TZOFFSETTO:-0500
TZNAME:CDT
DTSTART:20240310T080000
END:DAYLIGHT
BEGIN:STANDARD
TZOFFSETFROM:-0500
TZOFFSETTO:-0600
TZNAME:CST
DTSTART:20241103T070000
END:STANDARD
BEGIN:DAYLIGHT
TZOFFSETFROM:-0600
TZOFFSETTO:-0500
TZNAME:CDT
DTSTART:20250309T080000
END:DAYLIGHT
BEGIN:STANDARD
TZOFFSETFROM:-0500
TZOFFSETTO:-0600
TZNAME:CST
DTSTART:20251102T070000
END:STANDARD
BEGIN:DAYLIGHT
TZOFFSETFROM:-0600
TZOFFSETTO:-0500
TZNAME:CDT
DTSTART:20260308T080000
END:DAYLIGHT
BEGIN:STANDARD
TZOFFSETFROM:-0500
TZOFFSETTO:-0600
TZNAME:CST
DTSTART:20261101T070000
END:STANDARD
BEGIN:DAYLIGHT
TZOFFSETFROM:-0600
TZOFFSETTO:-0500
TZNAME:CDT
DTSTART:20270314T080000
END:DAYLIGHT
BEGIN:STANDARD
TZOFFSETFROM:-0500
TZOFFSETTO:-0600
TZNAME:CST
DTSTART:20271107T070000
END:STANDARD
END:VTIMEZONE
BEGIN:VEVENT
DTSTART;TZID=America/Chicago:20260415T110000
DTEND;TZID=America/Chicago:20260415T140000
DTSTAMP:20260419T213524
CREATED:20240919T152347Z
LAST-MODIFIED:20250131T072121Z
UID:10000097-1776250800-1776261600@dynamicdrips.com
SUMMARY:Prose Nail Salon
DESCRIPTION:
URL:https://dynamicdrips.com/event/prose-nail-salon-82/
LOCATION:13135 Main St\, Rogers\, MN\, United States
GEO:45.168896;-93.574586
END:VEVENT
BEGIN:VEVENT
DTSTART;TZID=America/Chicago:20260408T110000
DTEND;TZID=America/Chicago:20260408T140000
DTSTAMP:20260419T213524
CREATED:20240919T152346Z
LAST-MODIFIED:20250131T072120Z
UID:10000096-1775646000-1775656800@dynamicdrips.com
SUMMARY:Prose Nail Salon
DESCRIPTION:
URL:https://dynamicdrips.com/event/prose-nail-salon-81/
LOCATION:13135 Main St\, Rogers\, MN\, United States
GEO:45.168896;-93.574586
END:VEVENT
BEGIN:VEVENT
DTSTART;TZID=America/Chicago:20260401T110000
DTEND;TZID=America/Chicago:20260401T140000
DTSTAMP:20260419T213524
CREATED:20240919T152346Z
LAST-MODIFIED:20250131T072120Z
UID:10000095-1775041200-1775052000@dynamicdrips.com
SUMMARY:Prose Nail Salon
DESCRIPTION:
URL:https://dynamicdrips.com/event/prose-nail-salon-80/
LOCATION:13135 Main St\, Rogers\, MN\, United States
GEO:45.168896;-93.574586
END:VEVENT
BEGIN:VEVENT
DTSTART;TZID=America/Chicago:20260325T110000
DTEND;TZID=America/Chicago:20260325T140000
DTSTAMP:20260419T213524
CREATED:20240919T152346Z
LAST-MODIFIED:20250131T072120Z
UID:10000094-1774436400-1774447200@dynamicdrips.com
SUMMARY:Prose Nail Salon
DESCRIPTION:
URL:https://dynamicdrips.com/event/prose-nail-salon-79/
LOCATION:13135 Main St\, Rogers\, MN\, United States
GEO:45.168896;-93.574586
END:VEVENT
BEGIN:VEVENT
DTSTART;TZID=America/Chicago:20260318T110000
DTEND;TZID=America/Chicago:20260318T140000
DTSTAMP:20260419T213524
CREATED:20240919T152345Z
LAST-MODIFIED:20250131T072120Z
UID:10000093-1773831600-1773842400@dynamicdrips.com
SUMMARY:Prose Nail Salon
DESCRIPTION:
URL:https://dynamicdrips.com/event/prose-nail-salon-78/
LOCATION:13135 Main St\, Rogers\, MN\, United States
GEO:45.168896;-93.574586
END:VEVENT
BEGIN:VEVENT
DTSTART;TZID=America/Chicago:20260311T110000
DTEND;TZID=America/Chicago:20260311T140000
DTSTAMP:20260419T213524
CREATED:20240919T152345Z
LAST-MODIFIED:20250131T072120Z
UID:10000092-1773226800-1773237600@dynamicdrips.com
SUMMARY:Prose Nail Salon
DESCRIPTION:
URL:https://dynamicdrips.com/event/prose-nail-salon-77/
LOCATION:13135 Main St\, Rogers\, MN\, United States
GEO:45.168896;-93.574586
END:VEVENT
BEGIN:VEVENT
DTSTART;TZID=America/Chicago:20260304T110000
DTEND;TZID=America/Chicago:20260304T140000
DTSTAMP:20260419T213524
CREATED:20240919T152333Z
LAST-MODIFIED:20250131T072120Z
UID:10000091-1772622000-1772632800@dynamicdrips.com
SUMMARY:Prose Nail Salon
DESCRIPTION:
URL:https://dynamicdrips.com/event/prose-nail-salon-76/
LOCATION:13135 Main St\, Rogers\, MN\, United States
GEO:45.168896;-93.574586
END:VEVENT
BEGIN:VEVENT
DTSTART;TZID=America/Chicago:20260225T110000
DTEND;TZID=America/Chicago:20260225T140000
DTSTAMP:20260419T213524
CREATED:20240919T152333Z
LAST-MODIFIED:20250131T072120Z
UID:10000090-1772017200-1772028000@dynamicdrips.com
SUMMARY:Prose Nail Salon
DESCRIPTION:
URL:https://dynamicdrips.com/event/prose-nail-salon-75/
LOCATION:13135 Main St\, Rogers\, MN\, United States
GEO:45.168896;-93.574586
END:VEVENT
BEGIN:VEVENT
DTSTART;TZID=America/Chicago:20260218T110000
DTEND;TZID=America/Chicago:20260218T140000
DTSTAMP:20260419T213524
CREATED:20240919T152332Z
LAST-MODIFIED:20250131T072120Z
UID:10000089-1771412400-1771423200@dynamicdrips.com
SUMMARY:Prose Nail Salon
DESCRIPTION:
URL:https://dynamicdrips.com/event/prose-nail-salon-74/
LOCATION:13135 Main St\, Rogers\, MN\, United States
GEO:45.168896;-93.574586
END:VEVENT
BEGIN:VEVENT
DTSTART;TZID=America/Chicago:20260211T110000
DTEND;TZID=America/Chicago:20260211T140000
DTSTAMP:20260419T213524
CREATED:20240919T152332Z
LAST-MODIFIED:20250131T072120Z
UID:10000088-1770807600-1770818400@dynamicdrips.com
SUMMARY:Prose Nail Salon
DESCRIPTION:
URL:https://dynamicdrips.com/event/prose-nail-salon-73/
LOCATION:13135 Main St\, Rogers\, MN\, United States
GEO:45.168896;-93.574586
END:VEVENT
BEGIN:VEVENT
DTSTART;TZID=America/Chicago:20260204T110000
DTEND;TZID=America/Chicago:20260204T140000
DTSTAMP:20260419T213524
CREATED:20240919T152332Z
LAST-MODIFIED:20250131T072120Z
UID:10000087-1770202800-1770213600@dynamicdrips.com
SUMMARY:Prose Nail Salon
DESCRIPTION:
URL:https://dynamicdrips.com/event/prose-nail-salon-72/
LOCATION:13135 Main St\, Rogers\, MN\, United States
GEO:45.168896;-93.574586
END:VEVENT
BEGIN:VEVENT
DTSTART;TZID=America/Chicago:20260128T110000
DTEND;TZID=America/Chicago:20260128T140000
DTSTAMP:20260419T213524
CREATED:20240919T152332Z
LAST-MODIFIED:20250131T072120Z
UID:10000086-1769598000-1769608800@dynamicdrips.com
SUMMARY:Prose Nail Salon
DESCRIPTION:
URL:https://dynamicdrips.com/event/prose-nail-salon-71/
LOCATION:13135 Main St\, Rogers\, MN\, United States
GEO:45.168896;-93.574586
END:VEVENT
BEGIN:VEVENT
DTSTART;TZID=America/Chicago:20260121T110000
DTEND;TZID=America/Chicago:20260121T140000
DTSTAMP:20260419T213524
CREATED:20240919T152332Z
LAST-MODIFIED:20250131T072119Z
UID:10000085-1768993200-1769004000@dynamicdrips.com
SUMMARY:Prose Nail Salon
DESCRIPTION:
URL:https://dynamicdrips.com/event/prose-nail-salon-70/
LOCATION:13135 Main St\, Rogers\, MN\, United States
GEO:45.168896;-93.574586
END:VEVENT
BEGIN:VEVENT
DTSTART;TZID=America/Chicago:20260114T110000
DTEND;TZID=America/Chicago:20260114T140000
DTSTAMP:20260419T213524
CREATED:20240919T152331Z
LAST-MODIFIED:20250131T072119Z
UID:10000084-1768388400-1768399200@dynamicdrips.com
SUMMARY:Prose Nail Salon
DESCRIPTION:
URL:https://dynamicdrips.com/event/prose-nail-salon-69/
LOCATION:13135 Main St\, Rogers\, MN\, United States
GEO:45.168896;-93.574586
END:VEVENT
BEGIN:VEVENT
DTSTART;TZID=America/Chicago:20260107T110000
DTEND;TZID=America/Chicago:20260107T140000
DTSTAMP:20260419T213524
CREATED:20240919T152331Z
LAST-MODIFIED:20250131T072119Z
UID:10000083-1767783600-1767794400@dynamicdrips.com
SUMMARY:Prose Nail Salon
DESCRIPTION:
URL:https://dynamicdrips.com/event/prose-nail-salon-68/
LOCATION:13135 Main St\, Rogers\, MN\, United States
GEO:45.168896;-93.574586
END:VEVENT
BEGIN:VEVENT
DTSTART;TZID=America/Chicago:20251231T110000
DTEND;TZID=America/Chicago:20251231T140000
DTSTAMP:20260419T213524
CREATED:20240919T152331Z
LAST-MODIFIED:20250131T072119Z
UID:10000082-1767178800-1767189600@dynamicdrips.com
SUMMARY:Prose Nail Salon
DESCRIPTION:
URL:https://dynamicdrips.com/event/prose-nail-salon-67/
LOCATION:13135 Main St\, Rogers\, MN\, United States
GEO:45.168896;-93.574586
END:VEVENT
BEGIN:VEVENT
DTSTART;TZID=America/Chicago:20251224T110000
DTEND;TZID=America/Chicago:20251224T140000
DTSTAMP:20260419T213524
CREATED:20240919T152319Z
LAST-MODIFIED:20250131T072119Z
UID:10000081-1766574000-1766584800@dynamicdrips.com
SUMMARY:Prose Nail Salon
DESCRIPTION:
URL:https://dynamicdrips.com/event/prose-nail-salon-66/
LOCATION:13135 Main St\, Rogers\, MN\, United States
GEO:45.168896;-93.574586
END:VEVENT
BEGIN:VEVENT
DTSTART;TZID=America/Chicago:20251217T110000
DTEND;TZID=America/Chicago:20251217T140000
DTSTAMP:20260419T213524
CREATED:20240919T152319Z
LAST-MODIFIED:20250131T072119Z
UID:10000080-1765969200-1765980000@dynamicdrips.com
SUMMARY:Prose Nail Salon
DESCRIPTION:
URL:https://dynamicdrips.com/event/prose-nail-salon-65/
LOCATION:13135 Main St\, Rogers\, MN\, United States
GEO:45.168896;-93.574586
END:VEVENT
BEGIN:VEVENT
DTSTART;TZID=America/Chicago:20251210T110000
DTEND;TZID=America/Chicago:20251210T140000
DTSTAMP:20260419T213524
CREATED:20240919T152319Z
LAST-MODIFIED:20250131T072119Z
UID:10000079-1765364400-1765375200@dynamicdrips.com
SUMMARY:Prose Nail Salon
DESCRIPTION:
URL:https://dynamicdrips.com/event/prose-nail-salon-64/
LOCATION:13135 Main St\, Rogers\, MN\, United States
GEO:45.168896;-93.574586
END:VEVENT
BEGIN:VEVENT
DTSTART;TZID=America/Chicago:20251203T110000
DTEND;TZID=America/Chicago:20251203T140000
DTSTAMP:20260419T213524
CREATED:20240919T152319Z
LAST-MODIFIED:20250131T072119Z
UID:10000078-1764759600-1764770400@dynamicdrips.com
SUMMARY:Prose Nail Salon
DESCRIPTION:
URL:https://dynamicdrips.com/event/prose-nail-salon-63/
LOCATION:13135 Main St\, Rogers\, MN\, United States
GEO:45.168896;-93.574586
END:VEVENT
BEGIN:VEVENT
DTSTART;TZID=America/Chicago:20251126T110000
DTEND;TZID=America/Chicago:20251126T140000
DTSTAMP:20260419T213524
CREATED:20240919T152318Z
LAST-MODIFIED:20250131T072119Z
UID:10000077-1764154800-1764165600@dynamicdrips.com
SUMMARY:Prose Nail Salon
DESCRIPTION:
URL:https://dynamicdrips.com/event/prose-nail-salon-62/
LOCATION:13135 Main St\, Rogers\, MN\, United States
GEO:45.168896;-93.574586
END:VEVENT
BEGIN:VEVENT
DTSTART;TZID=America/Chicago:20251119T110000
DTEND;TZID=America/Chicago:20251119T140000
DTSTAMP:20260419T213524
CREATED:20240919T152318Z
LAST-MODIFIED:20250131T072119Z
UID:10000076-1763550000-1763560800@dynamicdrips.com
SUMMARY:Prose Nail Salon
DESCRIPTION:
URL:https://dynamicdrips.com/event/prose-nail-salon-61/
LOCATION:13135 Main St\, Rogers\, MN\, United States
GEO:45.168896;-93.574586
END:VEVENT
BEGIN:VEVENT
DTSTART;TZID=America/Chicago:20251112T110000
DTEND;TZID=America/Chicago:20251112T140000
DTSTAMP:20260419T213524
CREATED:20240919T152318Z
LAST-MODIFIED:20250131T072119Z
UID:10000075-1762945200-1762956000@dynamicdrips.com
SUMMARY:Prose Nail Salon
DESCRIPTION:
URL:https://dynamicdrips.com/event/prose-nail-salon-60/
LOCATION:13135 Main St\, Rogers\, MN\, United States
GEO:45.168896;-93.574586
END:VEVENT
BEGIN:VEVENT
DTSTART;TZID=America/Chicago:20251105T110000
DTEND;TZID=America/Chicago:20251105T140000
DTSTAMP:20260419T213524
CREATED:20240919T152318Z
LAST-MODIFIED:20250131T072118Z
UID:10000074-1762340400-1762351200@dynamicdrips.com
SUMMARY:Prose Nail Salon
DESCRIPTION:
URL:https://dynamicdrips.com/event/prose-nail-salon-59/
LOCATION:13135 Main St\, Rogers\, MN\, United States
GEO:45.168896;-93.574586
END:VEVENT
BEGIN:VEVENT
DTSTART;TZID=America/Chicago:20251029T110000
DTEND;TZID=America/Chicago:20251029T140000
DTSTAMP:20260419T213524
CREATED:20240919T152317Z
LAST-MODIFIED:20250131T072118Z
UID:10000073-1761735600-1761746400@dynamicdrips.com
SUMMARY:Prose Nail Salon
DESCRIPTION:
URL:https://dynamicdrips.com/event/prose-nail-salon-58/
LOCATION:13135 Main St\, Rogers\, MN\, United States
GEO:45.168896;-93.574586
END:VEVENT
BEGIN:VEVENT
DTSTART;TZID=America/Chicago:20251022T110000
DTEND;TZID=America/Chicago:20251022T140000
DTSTAMP:20260419T213524
CREATED:20240919T152317Z
LAST-MODIFIED:20250131T072118Z
UID:10000072-1761130800-1761141600@dynamicdrips.com
SUMMARY:Prose Nail Salon
DESCRIPTION:
URL:https://dynamicdrips.com/event/prose-nail-salon-57/
LOCATION:13135 Main St\, Rogers\, MN\, United States
GEO:45.168896;-93.574586
END:VEVENT
BEGIN:VEVENT
DTSTART;TZID=America/Chicago:20251015T110000
DTEND;TZID=America/Chicago:20251015T140000
DTSTAMP:20260419T213524
CREATED:20240919T152304Z
LAST-MODIFIED:20250131T072118Z
UID:10000071-1760526000-1760536800@dynamicdrips.com
SUMMARY:Prose Nail Salon
DESCRIPTION:
URL:https://dynamicdrips.com/event/prose-nail-salon-56/
LOCATION:13135 Main St\, Rogers\, MN\, United States
GEO:45.168896;-93.574586
END:VEVENT
BEGIN:VEVENT
DTSTART;TZID=America/Chicago:20251008T110000
DTEND;TZID=America/Chicago:20251008T140000
DTSTAMP:20260419T213524
CREATED:20240919T152304Z
LAST-MODIFIED:20250131T072118Z
UID:10000070-1759921200-1759932000@dynamicdrips.com
SUMMARY:Prose Nail Salon
DESCRIPTION:
URL:https://dynamicdrips.com/event/prose-nail-salon-55/
LOCATION:13135 Main St\, Rogers\, MN\, United States
GEO:45.168896;-93.574586
END:VEVENT
BEGIN:VEVENT
DTSTART;TZID=America/Chicago:20251001T110000
DTEND;TZID=America/Chicago:20251001T140000
DTSTAMP:20260419T213524
CREATED:20240919T152304Z
LAST-MODIFIED:20250131T072118Z
UID:10000069-1759316400-1759327200@dynamicdrips.com
SUMMARY:Prose Nail Salon
DESCRIPTION:
URL:https://dynamicdrips.com/event/prose-nail-salon-54/
LOCATION:13135 Main St\, Rogers\, MN\, United States
GEO:45.168896;-93.574586
END:VEVENT
BEGIN:VEVENT
DTSTART;TZID=America/Chicago:20250924T110000
DTEND;TZID=America/Chicago:20250924T140000
DTSTAMP:20260419T213524
CREATED:20240919T152304Z
LAST-MODIFIED:20250131T072118Z
UID:10000068-1758711600-1758722400@dynamicdrips.com
SUMMARY:Prose Nail Salon
DESCRIPTION:
URL:https://dynamicdrips.com/event/prose-nail-salon-53/
LOCATION:13135 Main St\, Rogers\, MN\, United States
GEO:45.168896;-93.574586
END:VEVENT
END:VCALENDAR