

BEGIN:VCALENDAR
VERSION:2.0
PRODID:-//Dynamic Drips - ECPv6.15.20//NONSGML v1.0//EN
CALSCALE:GREGORIAN
METHOD:PUBLISH
X-ORIGINAL-URL:https://dynamicdrips.com
X-WR-CALDESC:Events for Dynamic Drips
REFRESH-INTERVAL;VALUE=DURATION:PT1H
X-Robots-Tag:noindex
X-PUBLISHED-TTL:PT1H
BEGIN:VTIMEZONE
TZID:America/Chicago
BEGIN:DAYLIGHT
TZOFFSETFROM:-0600
TZOFFSETTO:-0500
TZNAME:CDT
DTSTART:20250309T080000
END:DAYLIGHT
BEGIN:STANDARD
TZOFFSETFROM:-0500
TZOFFSETTO:-0600
TZNAME:CST
DTSTART:20251102T070000
END:STANDARD
BEGIN:DAYLIGHT
TZOFFSETFROM:-0600
TZOFFSETTO:-0500
TZNAME:CDT
DTSTART:20260308T080000
END:DAYLIGHT
BEGIN:STANDARD
TZOFFSETFROM:-0500
TZOFFSETTO:-0600
TZNAME:CST
DTSTART:20261101T070000
END:STANDARD
BEGIN:DAYLIGHT
TZOFFSETFROM:-0600
TZOFFSETTO:-0500
TZNAME:CDT
DTSTART:20270314T080000
END:DAYLIGHT
BEGIN:STANDARD
TZOFFSETFROM:-0500
TZOFFSETTO:-0600
TZNAME:CST
DTSTART:20271107T070000
END:STANDARD
END:VTIMEZONE
BEGIN:VEVENT
DTSTART;TZID=America/Chicago:20260422T110000
DTEND;TZID=America/Chicago:20260422T140000
DTSTAMP:20260419T195920
CREATED:20240919T152347Z
LAST-MODIFIED:20250131T072121Z
UID:10000098-1776855600-1776866400@dynamicdrips.com
SUMMARY:Prose Nail Salon
DESCRIPTION:
URL:https://dynamicdrips.com/event/prose-nail-salon-83/
LOCATION:13135 Main St\, Rogers\, MN\, United States
GEO:45.168896;-93.574586
END:VEVENT
BEGIN:VEVENT
DTSTART;TZID=America/Chicago:20260429T110000
DTEND;TZID=America/Chicago:20260429T140000
DTSTAMP:20260419T195920
CREATED:20240919T152347Z
LAST-MODIFIED:20250131T072121Z
UID:10000099-1777460400-1777471200@dynamicdrips.com
SUMMARY:Prose Nail Salon
DESCRIPTION:
URL:https://dynamicdrips.com/event/prose-nail-salon-84/
LOCATION:13135 Main St\, Rogers\, MN\, United States
GEO:45.168896;-93.574586
END:VEVENT
BEGIN:VEVENT
DTSTART;TZID=America/Chicago:20260506T110000
DTEND;TZID=America/Chicago:20260506T140000
DTSTAMP:20260419T195920
CREATED:20240919T152347Z
LAST-MODIFIED:20250131T072121Z
UID:10000100-1778065200-1778076000@dynamicdrips.com
SUMMARY:Prose Nail Salon
DESCRIPTION:
URL:https://dynamicdrips.com/event/prose-nail-salon-85/
LOCATION:13135 Main St\, Rogers\, MN\, United States
GEO:45.168896;-93.574586
END:VEVENT
BEGIN:VEVENT
DTSTART;TZID=America/Chicago:20260513T110000
DTEND;TZID=America/Chicago:20260513T140000
DTSTAMP:20260419T195920
CREATED:20240919T152348Z
LAST-MODIFIED:20250131T072121Z
UID:10000101-1778670000-1778680800@dynamicdrips.com
SUMMARY:Prose Nail Salon
DESCRIPTION:
URL:https://dynamicdrips.com/event/prose-nail-salon-86/
LOCATION:13135 Main St\, Rogers\, MN\, United States
GEO:45.168896;-93.574586
END:VEVENT
BEGIN:VEVENT
DTSTART;TZID=America/Chicago:20260520T110000
DTEND;TZID=America/Chicago:20260520T140000
DTSTAMP:20260419T195920
CREATED:20240919T152401Z
LAST-MODIFIED:20250131T072121Z
UID:10000102-1779274800-1779285600@dynamicdrips.com
SUMMARY:Prose Nail Salon
DESCRIPTION:
URL:https://dynamicdrips.com/event/prose-nail-salon-87/
LOCATION:13135 Main St\, Rogers\, MN\, United States
GEO:45.168896;-93.574586
END:VEVENT
BEGIN:VEVENT
DTSTART;TZID=America/Chicago:20260527T110000
DTEND;TZID=America/Chicago:20260527T140000
DTSTAMP:20260419T195920
CREATED:20240919T152401Z
LAST-MODIFIED:20250131T072121Z
UID:10000103-1779879600-1779890400@dynamicdrips.com
SUMMARY:Prose Nail Salon
DESCRIPTION:
URL:https://dynamicdrips.com/event/prose-nail-salon-88/
LOCATION:13135 Main St\, Rogers\, MN\, United States
GEO:45.168896;-93.574586
END:VEVENT
BEGIN:VEVENT
DTSTART;TZID=America/Chicago:20260603T110000
DTEND;TZID=America/Chicago:20260603T140000
DTSTAMP:20260419T195920
CREATED:20240919T152401Z
LAST-MODIFIED:20250131T072121Z
UID:10000104-1780484400-1780495200@dynamicdrips.com
SUMMARY:Prose Nail Salon
DESCRIPTION:
URL:https://dynamicdrips.com/event/prose-nail-salon-89/
LOCATION:13135 Main St\, Rogers\, MN\, United States
GEO:45.168896;-93.574586
END:VEVENT
BEGIN:VEVENT
DTSTART;TZID=America/Chicago:20260610T110000
DTEND;TZID=America/Chicago:20260610T140000
DTSTAMP:20260419T195920
CREATED:20240919T152402Z
LAST-MODIFIED:20250131T072121Z
UID:10000105-1781089200-1781100000@dynamicdrips.com
SUMMARY:Prose Nail Salon
DESCRIPTION:
URL:https://dynamicdrips.com/event/prose-nail-salon-90/
LOCATION:13135 Main St\, Rogers\, MN\, United States
GEO:45.168896;-93.574586
END:VEVENT
BEGIN:VEVENT
DTSTART;TZID=America/Chicago:20260617T110000
DTEND;TZID=America/Chicago:20260617T140000
DTSTAMP:20260419T195920
CREATED:20240919T152402Z
LAST-MODIFIED:20250131T072122Z
UID:10000106-1781694000-1781704800@dynamicdrips.com
SUMMARY:Prose Nail Salon
DESCRIPTION:
URL:https://dynamicdrips.com/event/prose-nail-salon-91/
LOCATION:13135 Main St\, Rogers\, MN\, United States
GEO:45.168896;-93.574586
END:VEVENT
BEGIN:VEVENT
DTSTART;TZID=America/Chicago:20260624T110000
DTEND;TZID=America/Chicago:20260624T140000
DTSTAMP:20260419T195920
CREATED:20240919T152402Z
LAST-MODIFIED:20250131T072122Z
UID:10000107-1782298800-1782309600@dynamicdrips.com
SUMMARY:Prose Nail Salon
DESCRIPTION:
URL:https://dynamicdrips.com/event/prose-nail-salon-92/
LOCATION:13135 Main St\, Rogers\, MN\, United States
GEO:45.168896;-93.574586
END:VEVENT
BEGIN:VEVENT
DTSTART;TZID=America/Chicago:20260701T110000
DTEND;TZID=America/Chicago:20260701T140000
DTSTAMP:20260419T195920
CREATED:20240919T152402Z
LAST-MODIFIED:20250131T072122Z
UID:10000108-1782903600-1782914400@dynamicdrips.com
SUMMARY:Prose Nail Salon
DESCRIPTION:
URL:https://dynamicdrips.com/event/prose-nail-salon-93/
LOCATION:13135 Main St\, Rogers\, MN\, United States
GEO:45.168896;-93.574586
END:VEVENT
BEGIN:VEVENT
DTSTART;TZID=America/Chicago:20260708T110000
DTEND;TZID=America/Chicago:20260708T140000
DTSTAMP:20260419T195920
CREATED:20240919T152403Z
LAST-MODIFIED:20250131T072122Z
UID:10000109-1783508400-1783519200@dynamicdrips.com
SUMMARY:Prose Nail Salon
DESCRIPTION:
URL:https://dynamicdrips.com/event/prose-nail-salon-94/
LOCATION:13135 Main St\, Rogers\, MN\, United States
GEO:45.168896;-93.574586
END:VEVENT
BEGIN:VEVENT
DTSTART;TZID=America/Chicago:20260715T110000
DTEND;TZID=America/Chicago:20260715T140000
DTSTAMP:20260419T195920
CREATED:20240919T152403Z
LAST-MODIFIED:20250131T072122Z
UID:10000110-1784113200-1784124000@dynamicdrips.com
SUMMARY:Prose Nail Salon
DESCRIPTION:
URL:https://dynamicdrips.com/event/prose-nail-salon-95/
LOCATION:13135 Main St\, Rogers\, MN\, United States
GEO:45.168896;-93.574586
END:VEVENT
BEGIN:VEVENT
DTSTART;TZID=America/Chicago:20260722T110000
DTEND;TZID=America/Chicago:20260722T140000
DTSTAMP:20260419T195920
CREATED:20240919T152403Z
LAST-MODIFIED:20250131T072122Z
UID:10000111-1784718000-1784728800@dynamicdrips.com
SUMMARY:Prose Nail Salon
DESCRIPTION:
URL:https://dynamicdrips.com/event/prose-nail-salon-96/
LOCATION:13135 Main St\, Rogers\, MN\, United States
GEO:45.168896;-93.574586
END:VEVENT
BEGIN:VEVENT
DTSTART;TZID=America/Chicago:20260729T110000
DTEND;TZID=America/Chicago:20260729T140000
DTSTAMP:20260419T195920
CREATED:20240919T152415Z
LAST-MODIFIED:20250131T072122Z
UID:10000112-1785322800-1785333600@dynamicdrips.com
SUMMARY:Prose Nail Salon
DESCRIPTION:
URL:https://dynamicdrips.com/event/prose-nail-salon-97/
LOCATION:13135 Main St\, Rogers\, MN\, United States
GEO:45.168896;-93.574586
END:VEVENT
BEGIN:VEVENT
DTSTART;TZID=America/Chicago:20260805T110000
DTEND;TZID=America/Chicago:20260805T140000
DTSTAMP:20260419T195920
CREATED:20240919T152416Z
LAST-MODIFIED:20250131T072122Z
UID:10000113-1785927600-1785938400@dynamicdrips.com
SUMMARY:Prose Nail Salon
DESCRIPTION:
URL:https://dynamicdrips.com/event/prose-nail-salon-98/
LOCATION:13135 Main St\, Rogers\, MN\, United States
GEO:45.168896;-93.574586
END:VEVENT
BEGIN:VEVENT
DTSTART;TZID=America/Chicago:20260812T110000
DTEND;TZID=America/Chicago:20260812T140000
DTSTAMP:20260419T195920
CREATED:20240919T152416Z
LAST-MODIFIED:20250131T072122Z
UID:10000114-1786532400-1786543200@dynamicdrips.com
SUMMARY:Prose Nail Salon
DESCRIPTION:
URL:https://dynamicdrips.com/event/prose-nail-salon-99/
LOCATION:13135 Main St\, Rogers\, MN\, United States
GEO:45.168896;-93.574586
END:VEVENT
BEGIN:VEVENT
DTSTART;TZID=America/Chicago:20260819T110000
DTEND;TZID=America/Chicago:20260819T140000
DTSTAMP:20260419T195920
CREATED:20240919T152416Z
LAST-MODIFIED:20250131T072122Z
UID:10000115-1787137200-1787148000@dynamicdrips.com
SUMMARY:Prose Nail Salon
DESCRIPTION:
URL:https://dynamicdrips.com/event/prose-nail-salon-100/
LOCATION:13135 Main St\, Rogers\, MN\, United States
GEO:45.168896;-93.574586
END:VEVENT
BEGIN:VEVENT
DTSTART;TZID=America/Chicago:20260826T110000
DTEND;TZID=America/Chicago:20260826T140000
DTSTAMP:20260419T195920
CREATED:20240919T152416Z
LAST-MODIFIED:20250131T072122Z
UID:10000116-1787742000-1787752800@dynamicdrips.com
SUMMARY:Prose Nail Salon
DESCRIPTION:
URL:https://dynamicdrips.com/event/prose-nail-salon-101/
LOCATION:13135 Main St\, Rogers\, MN\, United States
GEO:45.168896;-93.574586
END:VEVENT
BEGIN:VEVENT
DTSTART;TZID=America/Chicago:20260902T110000
DTEND;TZID=America/Chicago:20260902T140000
DTSTAMP:20260419T195920
CREATED:20240919T152417Z
LAST-MODIFIED:20250131T072123Z
UID:10000117-1788346800-1788357600@dynamicdrips.com
SUMMARY:Prose Nail Salon
DESCRIPTION:
URL:https://dynamicdrips.com/event/prose-nail-salon-102/
LOCATION:13135 Main St\, Rogers\, MN\, United States
GEO:45.168896;-93.574586
END:VEVENT
BEGIN:VEVENT
DTSTART;TZID=America/Chicago:20260909T110000
DTEND;TZID=America/Chicago:20260909T140000
DTSTAMP:20260419T195920
CREATED:20240919T152417Z
LAST-MODIFIED:20250131T072123Z
UID:10000118-1788951600-1788962400@dynamicdrips.com
SUMMARY:Prose Nail Salon
DESCRIPTION:
URL:https://dynamicdrips.com/event/prose-nail-salon-103/
LOCATION:13135 Main St\, Rogers\, MN\, United States
GEO:45.168896;-93.574586
END:VEVENT
BEGIN:VEVENT
DTSTART;TZID=America/Chicago:20260916T110000
DTEND;TZID=America/Chicago:20260916T140000
DTSTAMP:20260419T195920
CREATED:20240919T152417Z
LAST-MODIFIED:20250131T072123Z
UID:10000119-1789556400-1789567200@dynamicdrips.com
SUMMARY:Prose Nail Salon
DESCRIPTION:
URL:https://dynamicdrips.com/event/prose-nail-salon-104/
LOCATION:13135 Main St\, Rogers\, MN\, United States
GEO:45.168896;-93.574586
END:VEVENT
BEGIN:VEVENT
DTSTART;TZID=America/Chicago:20260923T110000
DTEND;TZID=America/Chicago:20260923T140000
DTSTAMP:20260419T195920
CREATED:20240923T161643Z
LAST-MODIFIED:20250131T072123Z
UID:10000124-1790161200-1790172000@dynamicdrips.com
SUMMARY:Prose Nail Salon
DESCRIPTION:
URL:https://dynamicdrips.com/event/prose-nail-salon-105/
LOCATION:13135 Main St\, Rogers\, MN\, United States
GEO:45.168896;-93.574586
END:VEVENT
BEGIN:VEVENT
DTSTART;TZID=America/Chicago:20260930T110000
DTEND;TZID=America/Chicago:20260930T140000
DTSTAMP:20260419T195920
CREATED:20240930T172029Z
LAST-MODIFIED:20250131T072123Z
UID:10000129-1790766000-1790776800@dynamicdrips.com
SUMMARY:Prose Nail Salon
DESCRIPTION:
URL:https://dynamicdrips.com/event/prose-nail-salon-106/
LOCATION:13135 Main St\, Rogers\, MN\, United States
GEO:45.168896;-93.574586
END:VEVENT
BEGIN:VEVENT
DTSTART;TZID=America/Chicago:20261007T110000
DTEND;TZID=America/Chicago:20261007T140000
DTSTAMP:20260419T195920
CREATED:20241007T203017Z
LAST-MODIFIED:20250131T072123Z
UID:10000130-1791370800-1791381600@dynamicdrips.com
SUMMARY:Prose Nail Salon
DESCRIPTION:
URL:https://dynamicdrips.com/event/prose-nail-salon-107/
LOCATION:13135 Main St\, Rogers\, MN\, United States
GEO:45.168896;-93.574586
END:VEVENT
BEGIN:VEVENT
DTSTART;TZID=America/Chicago:20261014T110000
DTEND;TZID=America/Chicago:20261014T140000
DTSTAMP:20260419T195920
CREATED:20241014T213419Z
LAST-MODIFIED:20250131T072123Z
UID:10000133-1791975600-1791986400@dynamicdrips.com
SUMMARY:Prose Nail Salon
DESCRIPTION:
URL:https://dynamicdrips.com/event/prose-nail-salon-108/
LOCATION:13135 Main St\, Rogers\, MN\, United States
GEO:45.168896;-93.574586
END:VEVENT
BEGIN:VEVENT
DTSTART;TZID=America/Chicago:20261021T110000
DTEND;TZID=America/Chicago:20261021T140000
DTSTAMP:20260419T195920
CREATED:20241021T224121Z
LAST-MODIFIED:20250131T072123Z
UID:10000135-1792580400-1792591200@dynamicdrips.com
SUMMARY:Prose Nail Salon
DESCRIPTION:
URL:https://dynamicdrips.com/event/prose-nail-salon-109/
LOCATION:13135 Main St\, Rogers\, MN\, United States
GEO:45.168896;-93.574586
END:VEVENT
BEGIN:VEVENT
DTSTART;TZID=America/Chicago:20261028T110000
DTEND;TZID=America/Chicago:20261028T140000
DTSTAMP:20260419T195920
CREATED:20241028T001547Z
LAST-MODIFIED:20250131T072123Z
UID:10000137-1793185200-1793196000@dynamicdrips.com
SUMMARY:Prose Nail Salon
DESCRIPTION:
URL:https://dynamicdrips.com/event/prose-nail-salon-110/
LOCATION:13135 Main St\, Rogers\, MN\, United States
GEO:45.168896;-93.574586
END:VEVENT
BEGIN:VEVENT
DTSTART;TZID=America/Chicago:20261104T110000
DTEND;TZID=America/Chicago:20261104T140000
DTSTAMP:20260419T195920
CREATED:20241104T013426Z
LAST-MODIFIED:20250131T072123Z
UID:10000145-1793790000-1793800800@dynamicdrips.com
SUMMARY:Prose Nail Salon
DESCRIPTION:
URL:https://dynamicdrips.com/event/prose-nail-salon-111/
LOCATION:13135 Main St\, Rogers\, MN\, United States
GEO:45.168896;-93.574586
END:VEVENT
BEGIN:VEVENT
DTSTART;TZID=America/Chicago:20261111T110000
DTEND;TZID=America/Chicago:20261111T140000
DTSTAMP:20260419T195920
CREATED:20241111T031633Z
LAST-MODIFIED:20250131T072124Z
UID:10000156-1794394800-1794405600@dynamicdrips.com
SUMMARY:Prose Nail Salon
DESCRIPTION:
URL:https://dynamicdrips.com/event/prose-nail-salon-112/
LOCATION:13135 Main St\, Rogers\, MN\, United States
GEO:45.168896;-93.574586
END:VEVENT
END:VCALENDAR