

BEGIN:VCALENDAR
VERSION:2.0
PRODID:-//Dynamic Drips - ECPv6.15.20//NONSGML v1.0//EN
CALSCALE:GREGORIAN
METHOD:PUBLISH
X-ORIGINAL-URL:https://dynamicdrips.com
X-WR-CALDESC:Events for Dynamic Drips
REFRESH-INTERVAL;VALUE=DURATION:PT1H
X-Robots-Tag:noindex
X-PUBLISHED-TTL:PT1H
BEGIN:VTIMEZONE
TZID:America/Chicago
BEGIN:DAYLIGHT
TZOFFSETFROM:-0600
TZOFFSETTO:-0500
TZNAME:CDT
DTSTART:20240310T080000
END:DAYLIGHT
BEGIN:STANDARD
TZOFFSETFROM:-0500
TZOFFSETTO:-0600
TZNAME:CST
DTSTART:20241103T070000
END:STANDARD
BEGIN:DAYLIGHT
TZOFFSETFROM:-0600
TZOFFSETTO:-0500
TZNAME:CDT
DTSTART:20250309T080000
END:DAYLIGHT
BEGIN:STANDARD
TZOFFSETFROM:-0500
TZOFFSETTO:-0600
TZNAME:CST
DTSTART:20251102T070000
END:STANDARD
BEGIN:DAYLIGHT
TZOFFSETFROM:-0600
TZOFFSETTO:-0500
TZNAME:CDT
DTSTART:20260308T080000
END:DAYLIGHT
BEGIN:STANDARD
TZOFFSETFROM:-0500
TZOFFSETTO:-0600
TZNAME:CST
DTSTART:20261101T070000
END:STANDARD
END:VTIMEZONE
BEGIN:VEVENT
DTSTART;TZID=America/Chicago:20251029T110000
DTEND;TZID=America/Chicago:20251029T140000
DTSTAMP:20260420T002147
CREATED:20240919T152317Z
LAST-MODIFIED:20250131T072118Z
UID:10000073-1761735600-1761746400@dynamicdrips.com
SUMMARY:Prose Nail Salon
DESCRIPTION:
URL:https://dynamicdrips.com/event/prose-nail-salon-58/
LOCATION:13135 Main St\, Rogers\, MN\, United States
GEO:45.168896;-93.574586
END:VEVENT
BEGIN:VEVENT
DTSTART;TZID=America/Chicago:20251022T110000
DTEND;TZID=America/Chicago:20251022T140000
DTSTAMP:20260420T002147
CREATED:20240919T152317Z
LAST-MODIFIED:20250131T072118Z
UID:10000072-1761130800-1761141600@dynamicdrips.com
SUMMARY:Prose Nail Salon
DESCRIPTION:
URL:https://dynamicdrips.com/event/prose-nail-salon-57/
LOCATION:13135 Main St\, Rogers\, MN\, United States
GEO:45.168896;-93.574586
END:VEVENT
BEGIN:VEVENT
DTSTART;TZID=America/Chicago:20251015T110000
DTEND;TZID=America/Chicago:20251015T140000
DTSTAMP:20260420T002147
CREATED:20240919T152304Z
LAST-MODIFIED:20250131T072118Z
UID:10000071-1760526000-1760536800@dynamicdrips.com
SUMMARY:Prose Nail Salon
DESCRIPTION:
URL:https://dynamicdrips.com/event/prose-nail-salon-56/
LOCATION:13135 Main St\, Rogers\, MN\, United States
GEO:45.168896;-93.574586
END:VEVENT
BEGIN:VEVENT
DTSTART;TZID=America/Chicago:20251008T110000
DTEND;TZID=America/Chicago:20251008T140000
DTSTAMP:20260420T002147
CREATED:20240919T152304Z
LAST-MODIFIED:20250131T072118Z
UID:10000070-1759921200-1759932000@dynamicdrips.com
SUMMARY:Prose Nail Salon
DESCRIPTION:
URL:https://dynamicdrips.com/event/prose-nail-salon-55/
LOCATION:13135 Main St\, Rogers\, MN\, United States
GEO:45.168896;-93.574586
END:VEVENT
BEGIN:VEVENT
DTSTART;TZID=America/Chicago:20251001T110000
DTEND;TZID=America/Chicago:20251001T140000
DTSTAMP:20260420T002147
CREATED:20240919T152304Z
LAST-MODIFIED:20250131T072118Z
UID:10000069-1759316400-1759327200@dynamicdrips.com
SUMMARY:Prose Nail Salon
DESCRIPTION:
URL:https://dynamicdrips.com/event/prose-nail-salon-54/
LOCATION:13135 Main St\, Rogers\, MN\, United States
GEO:45.168896;-93.574586
END:VEVENT
BEGIN:VEVENT
DTSTART;TZID=America/Chicago:20250924T110000
DTEND;TZID=America/Chicago:20250924T140000
DTSTAMP:20260420T002147
CREATED:20240919T152304Z
LAST-MODIFIED:20250131T072118Z
UID:10000068-1758711600-1758722400@dynamicdrips.com
SUMMARY:Prose Nail Salon
DESCRIPTION:
URL:https://dynamicdrips.com/event/prose-nail-salon-53/
LOCATION:13135 Main St\, Rogers\, MN\, United States
GEO:45.168896;-93.574586
END:VEVENT
BEGIN:VEVENT
DTSTART;TZID=America/Chicago:20250917T110000
DTEND;TZID=America/Chicago:20250917T140000
DTSTAMP:20260420T002147
CREATED:20240919T152303Z
LAST-MODIFIED:20250131T072118Z
UID:10000067-1758106800-1758117600@dynamicdrips.com
SUMMARY:Prose Nail Salon
DESCRIPTION:
URL:https://dynamicdrips.com/event/prose-nail-salon-52/
LOCATION:13135 Main St\, Rogers\, MN\, United States
GEO:45.168896;-93.574586
END:VEVENT
BEGIN:VEVENT
DTSTART;TZID=America/Chicago:20250910T110000
DTEND;TZID=America/Chicago:20250910T140000
DTSTAMP:20260420T002147
CREATED:20240919T152303Z
LAST-MODIFIED:20250131T072118Z
UID:10000066-1757502000-1757512800@dynamicdrips.com
SUMMARY:Prose Nail Salon
DESCRIPTION:
URL:https://dynamicdrips.com/event/prose-nail-salon-51/
LOCATION:13135 Main St\, Rogers\, MN\, United States
GEO:45.168896;-93.574586
END:VEVENT
BEGIN:VEVENT
DTSTART;TZID=America/Chicago:20250903T110000
DTEND;TZID=America/Chicago:20250903T140000
DTSTAMP:20260420T002147
CREATED:20240919T152303Z
LAST-MODIFIED:20250131T072118Z
UID:10000065-1756897200-1756908000@dynamicdrips.com
SUMMARY:Prose Nail Salon
DESCRIPTION:
URL:https://dynamicdrips.com/event/prose-nail-salon-50/
LOCATION:13135 Main St\, Rogers\, MN\, United States
GEO:45.168896;-93.574586
END:VEVENT
BEGIN:VEVENT
DTSTART;TZID=America/Chicago:20250827T110000
DTEND;TZID=America/Chicago:20250827T140000
DTSTAMP:20260420T002147
CREATED:20240919T152303Z
LAST-MODIFIED:20250131T072117Z
UID:10000064-1756292400-1756303200@dynamicdrips.com
SUMMARY:Prose Nail Salon
DESCRIPTION:
URL:https://dynamicdrips.com/event/prose-nail-salon-49/
LOCATION:13135 Main St\, Rogers\, MN\, United States
GEO:45.168896;-93.574586
END:VEVENT
BEGIN:VEVENT
DTSTART;TZID=America/Chicago:20250820T110000
DTEND;TZID=America/Chicago:20250820T140000
DTSTAMP:20260420T002147
CREATED:20240919T152303Z
LAST-MODIFIED:20250131T072117Z
UID:10000063-1755687600-1755698400@dynamicdrips.com
SUMMARY:Prose Nail Salon
DESCRIPTION:
URL:https://dynamicdrips.com/event/prose-nail-salon-48/
LOCATION:13135 Main St\, Rogers\, MN\, United States
GEO:45.168896;-93.574586
END:VEVENT
BEGIN:VEVENT
DTSTART;TZID=America/Chicago:20250813T110000
DTEND;TZID=America/Chicago:20250813T140000
DTSTAMP:20260420T002147
CREATED:20240919T152302Z
LAST-MODIFIED:20250131T072117Z
UID:10000062-1755082800-1755093600@dynamicdrips.com
SUMMARY:Prose Nail Salon
DESCRIPTION:
URL:https://dynamicdrips.com/event/prose-nail-salon-47/
LOCATION:13135 Main St\, Rogers\, MN\, United States
GEO:45.168896;-93.574586
END:VEVENT
BEGIN:VEVENT
DTSTART;TZID=America/Chicago:20250806T110000
DTEND;TZID=America/Chicago:20250806T140000
DTSTAMP:20260420T002147
CREATED:20240919T152249Z
LAST-MODIFIED:20250131T072117Z
UID:10000061-1754478000-1754488800@dynamicdrips.com
SUMMARY:Prose Nail Salon
DESCRIPTION:
URL:https://dynamicdrips.com/event/prose-nail-salon-46/
LOCATION:13135 Main St\, Rogers\, MN\, United States
GEO:45.168896;-93.574586
END:VEVENT
BEGIN:VEVENT
DTSTART;TZID=America/Chicago:20250730T110000
DTEND;TZID=America/Chicago:20250730T140000
DTSTAMP:20260420T002147
CREATED:20240919T152248Z
LAST-MODIFIED:20250131T072117Z
UID:10000060-1753873200-1753884000@dynamicdrips.com
SUMMARY:Prose Nail Salon
DESCRIPTION:
URL:https://dynamicdrips.com/event/prose-nail-salon-45/
LOCATION:13135 Main St\, Rogers\, MN\, United States
GEO:45.168896;-93.574586
END:VEVENT
BEGIN:VEVENT
DTSTART;TZID=America/Chicago:20250723T110000
DTEND;TZID=America/Chicago:20250723T140000
DTSTAMP:20260420T002147
CREATED:20240919T152248Z
LAST-MODIFIED:20250131T072117Z
UID:10000059-1753268400-1753279200@dynamicdrips.com
SUMMARY:Prose Nail Salon
DESCRIPTION:
URL:https://dynamicdrips.com/event/prose-nail-salon-44/
LOCATION:13135 Main St\, Rogers\, MN\, United States
GEO:45.168896;-93.574586
END:VEVENT
BEGIN:VEVENT
DTSTART;TZID=America/Chicago:20250716T110000
DTEND;TZID=America/Chicago:20250716T140000
DTSTAMP:20260420T002147
CREATED:20240919T152248Z
LAST-MODIFIED:20250131T072117Z
UID:10000058-1752663600-1752674400@dynamicdrips.com
SUMMARY:Prose Nail Salon
DESCRIPTION:
URL:https://dynamicdrips.com/event/prose-nail-salon-43/
LOCATION:13135 Main St\, Rogers\, MN\, United States
GEO:45.168896;-93.574586
END:VEVENT
BEGIN:VEVENT
DTSTART;TZID=America/Chicago:20250709T110000
DTEND;TZID=America/Chicago:20250709T140000
DTSTAMP:20260420T002147
CREATED:20240919T152248Z
LAST-MODIFIED:20250131T072117Z
UID:10000057-1752058800-1752069600@dynamicdrips.com
SUMMARY:Prose Nail Salon
DESCRIPTION:
URL:https://dynamicdrips.com/event/prose-nail-salon-42/
LOCATION:13135 Main St\, Rogers\, MN\, United States
GEO:45.168896;-93.574586
END:VEVENT
BEGIN:VEVENT
DTSTART;TZID=America/Chicago:20250702T110000
DTEND;TZID=America/Chicago:20250702T140000
DTSTAMP:20260420T002147
CREATED:20240919T152247Z
LAST-MODIFIED:20250131T072116Z
UID:10000056-1751454000-1751464800@dynamicdrips.com
SUMMARY:Prose Nail Salon
DESCRIPTION:
URL:https://dynamicdrips.com/event/prose-nail-salon-41/
LOCATION:13135 Main St\, Rogers\, MN\, United States
GEO:45.168896;-93.574586
END:VEVENT
BEGIN:VEVENT
DTSTART;TZID=America/Chicago:20250618T110000
DTEND;TZID=America/Chicago:20250618T140000
DTSTAMP:20260420T002147
CREATED:20240919T152247Z
LAST-MODIFIED:20250131T072116Z
UID:10000054-1750244400-1750255200@dynamicdrips.com
SUMMARY:Prose Nail Salon
DESCRIPTION:
URL:https://dynamicdrips.com/event/prose-nail-salon-39/
LOCATION:13135 Main St\, Rogers\, MN\, United States
GEO:45.168896;-93.574586
END:VEVENT
BEGIN:VEVENT
DTSTART;TZID=America/Chicago:20250611T110000
DTEND;TZID=America/Chicago:20250611T140000
DTSTAMP:20260420T002147
CREATED:20240919T152247Z
LAST-MODIFIED:20250131T072116Z
UID:10000053-1749639600-1749650400@dynamicdrips.com
SUMMARY:Prose Nail Salon
DESCRIPTION:
URL:https://dynamicdrips.com/event/prose-nail-salon-38/
LOCATION:13135 Main St\, Rogers\, MN\, United States
GEO:45.168896;-93.574586
END:VEVENT
BEGIN:VEVENT
DTSTART;TZID=America/Chicago:20250604T110000
DTEND;TZID=America/Chicago:20250604T140000
DTSTAMP:20260420T002147
CREATED:20240919T152247Z
LAST-MODIFIED:20250131T072116Z
UID:10000052-1749034800-1749045600@dynamicdrips.com
SUMMARY:Prose Nail Salon
DESCRIPTION:
URL:https://dynamicdrips.com/event/prose-nail-salon-37/
LOCATION:13135 Main St\, Rogers\, MN\, United States
GEO:45.168896;-93.574586
END:VEVENT
BEGIN:VEVENT
DTSTART;TZID=America/Chicago:20250528T110000
DTEND;TZID=America/Chicago:20250528T140000
DTSTAMP:20260420T002147
CREATED:20240919T152233Z
LAST-MODIFIED:20250131T072116Z
UID:10000051-1748430000-1748440800@dynamicdrips.com
SUMMARY:Prose Nail Salon
DESCRIPTION:
URL:https://dynamicdrips.com/event/prose-nail-salon-36/
LOCATION:13135 Main St\, Rogers\, MN\, United States
GEO:45.168896;-93.574586
END:VEVENT
BEGIN:VEVENT
DTSTART;TZID=America/Chicago:20250521T110000
DTEND;TZID=America/Chicago:20250521T140000
DTSTAMP:20260420T002147
CREATED:20240919T152232Z
LAST-MODIFIED:20250131T072116Z
UID:10000050-1747825200-1747836000@dynamicdrips.com
SUMMARY:Prose Nail Salon
DESCRIPTION:
URL:https://dynamicdrips.com/event/prose-nail-salon-35/
LOCATION:13135 Main St\, Rogers\, MN\, United States
GEO:45.168896;-93.574586
END:VEVENT
BEGIN:VEVENT
DTSTART;TZID=America/Chicago:20250514T110000
DTEND;TZID=America/Chicago:20250514T140000
DTSTAMP:20260420T002147
CREATED:20240919T152232Z
LAST-MODIFIED:20250131T072116Z
UID:10000049-1747220400-1747231200@dynamicdrips.com
SUMMARY:Prose Nail Salon
DESCRIPTION:
URL:https://dynamicdrips.com/event/prose-nail-salon-34/
LOCATION:13135 Main St\, Rogers\, MN\, United States
GEO:45.168896;-93.574586
END:VEVENT
BEGIN:VEVENT
DTSTART;TZID=America/Chicago:20250507T110000
DTEND;TZID=America/Chicago:20250507T140000
DTSTAMP:20260420T002147
CREATED:20240919T152232Z
LAST-MODIFIED:20250131T072115Z
UID:10000048-1746615600-1746626400@dynamicdrips.com
SUMMARY:Prose Nail Salon
DESCRIPTION:
URL:https://dynamicdrips.com/event/prose-nail-salon-33/
LOCATION:13135 Main St\, Rogers\, MN\, United States
GEO:45.168896;-93.574586
END:VEVENT
BEGIN:VEVENT
DTSTART;TZID=America/Chicago:20250430T110000
DTEND;TZID=America/Chicago:20250430T140000
DTSTAMP:20260420T002147
CREATED:20240919T152232Z
LAST-MODIFIED:20250131T072115Z
UID:10000047-1746010800-1746021600@dynamicdrips.com
SUMMARY:Prose Nail Salon
DESCRIPTION:
URL:https://dynamicdrips.com/event/prose-nail-salon-32/
LOCATION:13135 Main St\, Rogers\, MN\, United States
GEO:45.168896;-93.574586
END:VEVENT
BEGIN:VEVENT
DTSTART;TZID=America/Chicago:20250423T110000
DTEND;TZID=America/Chicago:20250423T140000
DTSTAMP:20260420T002147
CREATED:20240919T152232Z
LAST-MODIFIED:20250131T072115Z
UID:10000046-1745406000-1745416800@dynamicdrips.com
SUMMARY:Prose Nail Salon
DESCRIPTION:
URL:https://dynamicdrips.com/event/prose-nail-salon-31/
LOCATION:13135 Main St\, Rogers\, MN\, United States
GEO:45.168896;-93.574586
END:VEVENT
BEGIN:VEVENT
DTSTART;TZID=America/Chicago:20250416T110000
DTEND;TZID=America/Chicago:20250416T140000
DTSTAMP:20260420T002147
CREATED:20240919T152231Z
LAST-MODIFIED:20250131T072115Z
UID:10000045-1744801200-1744812000@dynamicdrips.com
SUMMARY:Prose Nail Salon
DESCRIPTION:
URL:https://dynamicdrips.com/event/prose-nail-salon-30/
LOCATION:13135 Main St\, Rogers\, MN\, United States
GEO:45.168896;-93.574586
END:VEVENT
BEGIN:VEVENT
DTSTART;TZID=America/Chicago:20250409T110000
DTEND;TZID=America/Chicago:20250409T140000
DTSTAMP:20260420T002147
CREATED:20240919T152231Z
LAST-MODIFIED:20250131T072115Z
UID:10000044-1744196400-1744207200@dynamicdrips.com
SUMMARY:Prose Nail Salon
DESCRIPTION:
URL:https://dynamicdrips.com/event/prose-nail-salon-29/
LOCATION:13135 Main St\, Rogers\, MN\, United States
GEO:45.168896;-93.574586
END:VEVENT
BEGIN:VEVENT
DTSTART;TZID=America/Chicago:20250402T110000
DTEND;TZID=America/Chicago:20250402T140000
DTSTAMP:20260420T002147
CREATED:20240919T152231Z
LAST-MODIFIED:20250131T072115Z
UID:10000043-1743591600-1743602400@dynamicdrips.com
SUMMARY:Prose Nail Salon
DESCRIPTION:
URL:https://dynamicdrips.com/event/prose-nail-salon-28/
LOCATION:13135 Main St\, Rogers\, MN\, United States
GEO:45.168896;-93.574586
END:VEVENT
END:VCALENDAR