

BEGIN:VCALENDAR
VERSION:2.0
PRODID:-//Dynamic Drips - ECPv6.15.20//NONSGML v1.0//EN
CALSCALE:GREGORIAN
METHOD:PUBLISH
X-ORIGINAL-URL:https://dynamicdrips.com
X-WR-CALDESC:Events for Dynamic Drips
REFRESH-INTERVAL;VALUE=DURATION:PT1H
X-Robots-Tag:noindex
X-PUBLISHED-TTL:PT1H
BEGIN:VTIMEZONE
TZID:America/Chicago
BEGIN:DAYLIGHT
TZOFFSETFROM:-0600
TZOFFSETTO:-0500
TZNAME:CDT
DTSTART:20250309T080000
END:DAYLIGHT
BEGIN:STANDARD
TZOFFSETFROM:-0500
TZOFFSETTO:-0600
TZNAME:CST
DTSTART:20251102T070000
END:STANDARD
BEGIN:DAYLIGHT
TZOFFSETFROM:-0600
TZOFFSETTO:-0500
TZNAME:CDT
DTSTART:20260308T080000
END:DAYLIGHT
BEGIN:STANDARD
TZOFFSETFROM:-0500
TZOFFSETTO:-0600
TZNAME:CST
DTSTART:20261101T070000
END:STANDARD
BEGIN:DAYLIGHT
TZOFFSETFROM:-0600
TZOFFSETTO:-0500
TZNAME:CDT
DTSTART:20270314T080000
END:DAYLIGHT
BEGIN:STANDARD
TZOFFSETFROM:-0500
TZOFFSETTO:-0600
TZNAME:CST
DTSTART:20271107T070000
END:STANDARD
BEGIN:DAYLIGHT
TZOFFSETFROM:-0600
TZOFFSETTO:-0500
TZNAME:CDT
DTSTART:20280312T080000
END:DAYLIGHT
BEGIN:STANDARD
TZOFFSETFROM:-0500
TZOFFSETTO:-0600
TZNAME:CST
DTSTART:20281105T070000
END:STANDARD
END:VTIMEZONE
BEGIN:VEVENT
DTSTART;TZID=America/Chicago:20261007T110000
DTEND;TZID=America/Chicago:20261007T140000
DTSTAMP:20260419T231607
CREATED:20241007T203017Z
LAST-MODIFIED:20250131T072123Z
UID:10000130-1791370800-1791381600@dynamicdrips.com
SUMMARY:Prose Nail Salon
DESCRIPTION:
URL:https://dynamicdrips.com/event/prose-nail-salon-107/
LOCATION:13135 Main St\, Rogers\, MN\, United States
GEO:45.168896;-93.574586
END:VEVENT
BEGIN:VEVENT
DTSTART;TZID=America/Chicago:20261014T110000
DTEND;TZID=America/Chicago:20261014T140000
DTSTAMP:20260419T231607
CREATED:20241014T213419Z
LAST-MODIFIED:20250131T072123Z
UID:10000133-1791975600-1791986400@dynamicdrips.com
SUMMARY:Prose Nail Salon
DESCRIPTION:
URL:https://dynamicdrips.com/event/prose-nail-salon-108/
LOCATION:13135 Main St\, Rogers\, MN\, United States
GEO:45.168896;-93.574586
END:VEVENT
BEGIN:VEVENT
DTSTART;TZID=America/Chicago:20261021T110000
DTEND;TZID=America/Chicago:20261021T140000
DTSTAMP:20260419T231607
CREATED:20241021T224121Z
LAST-MODIFIED:20250131T072123Z
UID:10000135-1792580400-1792591200@dynamicdrips.com
SUMMARY:Prose Nail Salon
DESCRIPTION:
URL:https://dynamicdrips.com/event/prose-nail-salon-109/
LOCATION:13135 Main St\, Rogers\, MN\, United States
GEO:45.168896;-93.574586
END:VEVENT
BEGIN:VEVENT
DTSTART;TZID=America/Chicago:20261028T110000
DTEND;TZID=America/Chicago:20261028T140000
DTSTAMP:20260419T231607
CREATED:20241028T001547Z
LAST-MODIFIED:20250131T072123Z
UID:10000137-1793185200-1793196000@dynamicdrips.com
SUMMARY:Prose Nail Salon
DESCRIPTION:
URL:https://dynamicdrips.com/event/prose-nail-salon-110/
LOCATION:13135 Main St\, Rogers\, MN\, United States
GEO:45.168896;-93.574586
END:VEVENT
BEGIN:VEVENT
DTSTART;TZID=America/Chicago:20261104T110000
DTEND;TZID=America/Chicago:20261104T140000
DTSTAMP:20260419T231607
CREATED:20241104T013426Z
LAST-MODIFIED:20250131T072123Z
UID:10000145-1793790000-1793800800@dynamicdrips.com
SUMMARY:Prose Nail Salon
DESCRIPTION:
URL:https://dynamicdrips.com/event/prose-nail-salon-111/
LOCATION:13135 Main St\, Rogers\, MN\, United States
GEO:45.168896;-93.574586
END:VEVENT
BEGIN:VEVENT
DTSTART;TZID=America/Chicago:20261111T110000
DTEND;TZID=America/Chicago:20261111T140000
DTSTAMP:20260419T231607
CREATED:20241111T031633Z
LAST-MODIFIED:20250131T072124Z
UID:10000156-1794394800-1794405600@dynamicdrips.com
SUMMARY:Prose Nail Salon
DESCRIPTION:
URL:https://dynamicdrips.com/event/prose-nail-salon-112/
LOCATION:13135 Main St\, Rogers\, MN\, United States
GEO:45.168896;-93.574586
END:VEVENT
BEGIN:VEVENT
DTSTART;TZID=America/Chicago:20261118T110000
DTEND;TZID=America/Chicago:20261118T140000
DTSTAMP:20260419T231607
CREATED:20241118T052822Z
LAST-MODIFIED:20250131T072124Z
UID:10000157-1794999600-1795010400@dynamicdrips.com
SUMMARY:Prose Nail Salon
DESCRIPTION:
URL:https://dynamicdrips.com/event/prose-nail-salon-113/
LOCATION:13135 Main St\, Rogers\, MN\, United States
GEO:45.168896;-93.574586
END:VEVENT
BEGIN:VEVENT
DTSTART;TZID=America/Chicago:20261125T110000
DTEND;TZID=America/Chicago:20261125T140000
DTSTAMP:20260419T231607
CREATED:20241125T073042Z
LAST-MODIFIED:20250131T072124Z
UID:10000162-1795604400-1795615200@dynamicdrips.com
SUMMARY:Prose Nail Salon
DESCRIPTION:
URL:https://dynamicdrips.com/event/prose-nail-salon-114/
LOCATION:13135 Main St\, Rogers\, MN\, United States
GEO:45.168896;-93.574586
END:VEVENT
BEGIN:VEVENT
DTSTART;TZID=America/Chicago:20261202T110000
DTEND;TZID=America/Chicago:20261202T140000
DTSTAMP:20260419T231607
CREATED:20241202T104451Z
LAST-MODIFIED:20250131T072124Z
UID:10000167-1796209200-1796220000@dynamicdrips.com
SUMMARY:Prose Nail Salon
DESCRIPTION:
URL:https://dynamicdrips.com/event/prose-nail-salon-116/
LOCATION:13135 Main St\, Rogers\, MN\, United States
GEO:45.168896;-93.574586
END:VEVENT
BEGIN:VEVENT
DTSTART;TZID=America/Chicago:20261209T110000
DTEND;TZID=America/Chicago:20261209T140000
DTSTAMP:20260419T231607
CREATED:20241209T160015Z
LAST-MODIFIED:20250131T072124Z
UID:10000172-1796814000-1796824800@dynamicdrips.com
SUMMARY:Prose Nail Salon
DESCRIPTION:
URL:https://dynamicdrips.com/event/prose-nail-salon-117/
LOCATION:13135 Main St\, Rogers\, MN\, United States
GEO:45.168896;-93.574586
END:VEVENT
BEGIN:VEVENT
DTSTART;TZID=America/Chicago:20261216T110000
DTEND;TZID=America/Chicago:20261216T140000
DTSTAMP:20260419T231607
CREATED:20241216T205343Z
LAST-MODIFIED:20250131T072124Z
UID:10000173-1797418800-1797429600@dynamicdrips.com
SUMMARY:Prose Nail Salon
DESCRIPTION:
URL:https://dynamicdrips.com/event/prose-nail-salon-118/
LOCATION:13135 Main St\, Rogers\, MN\, United States
GEO:45.168896;-93.574586
END:VEVENT
BEGIN:VEVENT
DTSTART;TZID=America/Chicago:20261223T110000
DTEND;TZID=America/Chicago:20261223T140000
DTSTAMP:20260419T231607
CREATED:20241223T044424Z
LAST-MODIFIED:20250131T072124Z
UID:10000185-1798023600-1798034400@dynamicdrips.com
SUMMARY:Prose Nail Salon
DESCRIPTION:
URL:https://dynamicdrips.com/event/prose-nail-salon-119/
LOCATION:13135 Main St\, Rogers\, MN\, United States
GEO:45.168896;-93.574586
END:VEVENT
BEGIN:VEVENT
DTSTART;TZID=America/Chicago:20261230T110000
DTEND;TZID=America/Chicago:20261230T140000
DTSTAMP:20260419T231607
CREATED:20241230T081113Z
LAST-MODIFIED:20250131T072124Z
UID:10000186-1798628400-1798639200@dynamicdrips.com
SUMMARY:Prose Nail Salon
DESCRIPTION:
URL:https://dynamicdrips.com/event/prose-nail-salon-120/
LOCATION:13135 Main St\, Rogers\, MN\, United States
GEO:45.168896;-93.574586
END:VEVENT
BEGIN:VEVENT
DTSTART;TZID=America/Chicago:20270106T110000
DTEND;TZID=America/Chicago:20270106T140000
DTSTAMP:20260419T231607
CREATED:20250106T145945Z
LAST-MODIFIED:20250131T072124Z
UID:10000189-1799233200-1799244000@dynamicdrips.com
SUMMARY:Prose Nail Salon
DESCRIPTION:
URL:https://dynamicdrips.com/event/prose-nail-salon-121/
LOCATION:13135 Main St\, Rogers\, MN\, United States
GEO:45.168896;-93.574586
END:VEVENT
BEGIN:VEVENT
DTSTART;TZID=America/Chicago:20270113T110000
DTEND;TZID=America/Chicago:20270113T140000
DTSTAMP:20260419T231607
CREATED:20250113T234558Z
LAST-MODIFIED:20250131T072124Z
UID:10000199-1799838000-1799848800@dynamicdrips.com
SUMMARY:Prose Nail Salon
DESCRIPTION:
URL:https://dynamicdrips.com/event/prose-nail-salon-122/
LOCATION:13135 Main St\, Rogers\, MN\, United States
GEO:45.168896;-93.574586
END:VEVENT
BEGIN:VEVENT
DTSTART;TZID=America/Chicago:20270120T110000
DTEND;TZID=America/Chicago:20270120T140000
DTSTAMP:20260419T231607
CREATED:20250123T102043Z
LAST-MODIFIED:20250131T072125Z
UID:10000208-1800442800-1800453600@dynamicdrips.com
SUMMARY:Prose Nail Salon
DESCRIPTION:
URL:https://dynamicdrips.com/event/prose-nail-salon-123/
LOCATION:13135 Main St\, Rogers\, MN\, United States
GEO:45.168896;-93.574586
END:VEVENT
BEGIN:VEVENT
DTSTART;TZID=America/Chicago:20270127T110000
DTEND;TZID=America/Chicago:20270127T140000
DTSTAMP:20260419T231607
CREATED:20250127T050202Z
LAST-MODIFIED:20250131T072125Z
UID:10000211-1801047600-1801058400@dynamicdrips.com
SUMMARY:Prose Nail Salon
DESCRIPTION:
URL:https://dynamicdrips.com/event/prose-nail-salon-124/
LOCATION:13135 Main St\, Rogers\, MN\, United States
GEO:45.168896;-93.574586
END:VEVENT
END:VCALENDAR