

BEGIN:VCALENDAR
VERSION:2.0
PRODID:-//Dynamic Drips - ECPv6.15.20//NONSGML v1.0//EN
CALSCALE:GREGORIAN
METHOD:PUBLISH
X-ORIGINAL-URL:https://dynamicdrips.com
X-WR-CALDESC:Events for Dynamic Drips
REFRESH-INTERVAL;VALUE=DURATION:PT1H
X-Robots-Tag:noindex
X-PUBLISHED-TTL:PT1H
BEGIN:VTIMEZONE
TZID:America/Chicago
BEGIN:DAYLIGHT
TZOFFSETFROM:-0600
TZOFFSETTO:-0500
TZNAME:CDT
DTSTART:20230312T080000
END:DAYLIGHT
BEGIN:STANDARD
TZOFFSETFROM:-0500
TZOFFSETTO:-0600
TZNAME:CST
DTSTART:20231105T070000
END:STANDARD
BEGIN:DAYLIGHT
TZOFFSETFROM:-0600
TZOFFSETTO:-0500
TZNAME:CDT
DTSTART:20240310T080000
END:DAYLIGHT
BEGIN:STANDARD
TZOFFSETFROM:-0500
TZOFFSETTO:-0600
TZNAME:CST
DTSTART:20241103T070000
END:STANDARD
BEGIN:DAYLIGHT
TZOFFSETFROM:-0600
TZOFFSETTO:-0500
TZNAME:CDT
DTSTART:20250309T080000
END:DAYLIGHT
BEGIN:STANDARD
TZOFFSETFROM:-0500
TZOFFSETTO:-0600
TZNAME:CST
DTSTART:20251102T070000
END:STANDARD
BEGIN:DAYLIGHT
TZOFFSETFROM:-0600
TZOFFSETTO:-0500
TZNAME:CDT
DTSTART:20260308T080000
END:DAYLIGHT
BEGIN:STANDARD
TZOFFSETFROM:-0500
TZOFFSETTO:-0600
TZNAME:CST
DTSTART:20261101T070000
END:STANDARD
END:VTIMEZONE
BEGIN:VEVENT
DTSTART;TZID=America/Chicago:20250212T110000
DTEND;TZID=America/Chicago:20250212T140000
DTSTAMP:20260420T053451
CREATED:20240919T152216Z
LAST-MODIFIED:20250131T072112Z
UID:10000036-1739358000-1739368800@dynamicdrips.com
SUMMARY:Prose Nail Salon
DESCRIPTION:
URL:https://dynamicdrips.com/event/prose-nail-salon-21/
LOCATION:13135 Main St\, Rogers\, MN\, United States
GEO:45.168896;-93.574586
END:VEVENT
BEGIN:VEVENT
DTSTART;TZID=America/Chicago:20250205T110000
DTEND;TZID=America/Chicago:20250205T140000
DTSTAMP:20260420T053451
CREATED:20240919T152216Z
LAST-MODIFIED:20250131T072112Z
UID:10000035-1738753200-1738764000@dynamicdrips.com
SUMMARY:Prose Nail Salon
DESCRIPTION:
URL:https://dynamicdrips.com/event/prose-nail-salon-20/
LOCATION:13135 Main St\, Rogers\, MN\, United States
GEO:45.168896;-93.574586
END:VEVENT
BEGIN:VEVENT
DTSTART;TZID=America/Chicago:20250129T110000
DTEND;TZID=America/Chicago:20250129T140000
DTSTAMP:20260420T053451
CREATED:20240919T152216Z
LAST-MODIFIED:20250129T063025Z
UID:10000034-1738148400-1738159200@dynamicdrips.com
SUMMARY:Prose Nail Salon
DESCRIPTION:
URL:https://dynamicdrips.com/event/prose-nail-salon-19/
LOCATION:13135 Main St\, Rogers\, MN\, United States
GEO:45.168896;-93.574586
END:VEVENT
BEGIN:VEVENT
DTSTART;TZID=America/Chicago:20250122T110000
DTEND;TZID=America/Chicago:20250122T140000
DTSTAMP:20260420T053451
CREATED:20240919T152216Z
LAST-MODIFIED:20250116T024043Z
UID:10000033-1737543600-1737554400@dynamicdrips.com
SUMMARY:Prose Nail Salon
DESCRIPTION:
URL:https://dynamicdrips.com/event/prose-nail-salon-18/
LOCATION:13135 Main St\, Rogers\, MN\, United States
GEO:45.168896;-93.574586
END:VEVENT
BEGIN:VEVENT
DTSTART;TZID=America/Chicago:20250115T110000
DTEND;TZID=America/Chicago:20250115T140000
DTSTAMP:20260420T053451
CREATED:20240919T152215Z
LAST-MODIFIED:20250115T023241Z
UID:10000032-1736938800-1736949600@dynamicdrips.com
SUMMARY:Prose Nail Salon
DESCRIPTION:
URL:https://dynamicdrips.com/event/prose-nail-salon-17/
LOCATION:13135 Main St\, Rogers\, MN\, United States
GEO:45.168896;-93.574586
END:VEVENT
BEGIN:VEVENT
DTSTART;TZID=America/Chicago:20250108T110000
DTEND;TZID=America/Chicago:20250108T140000
DTSTAMP:20260420T053451
CREATED:20240919T152203Z
LAST-MODIFIED:20250108T195823Z
UID:10000031-1736334000-1736344800@dynamicdrips.com
SUMMARY:Prose Nail Salon
DESCRIPTION:
URL:https://dynamicdrips.com/event/prose-nail-salon-16/
LOCATION:13135 Main St\, Rogers\, MN\, United States
GEO:45.168896;-93.574586
END:VEVENT
BEGIN:VEVENT
DTSTART;TZID=America/Chicago:20250101T110000
DTEND;TZID=America/Chicago:20250101T140000
DTSTAMP:20260420T053451
CREATED:20240919T152202Z
LAST-MODIFIED:20250101T093302Z
UID:10000030-1735729200-1735740000@dynamicdrips.com
SUMMARY:Prose Nail Salon
DESCRIPTION:
URL:https://dynamicdrips.com/event/prose-nail-salon-15/
LOCATION:13135 Main St\, Rogers\, MN\, United States
GEO:45.168896;-93.574586
END:VEVENT
BEGIN:VEVENT
DTSTART;TZID=America/Chicago:20241225T110000
DTEND;TZID=America/Chicago:20241225T140000
DTSTAMP:20260420T053451
CREATED:20240919T152202Z
LAST-MODIFIED:20241225T064403Z
UID:10000029-1735124400-1735135200@dynamicdrips.com
SUMMARY:Prose Nail Salon
DESCRIPTION:
URL:https://dynamicdrips.com/event/prose-nail-salon-14/
LOCATION:13135 Main St\, Rogers\, MN\, United States
GEO:45.168896;-93.574586
END:VEVENT
BEGIN:VEVENT
DTSTART;TZID=America/Chicago:20241218T110000
DTEND;TZID=America/Chicago:20241218T140000
DTSTAMP:20260420T053451
CREATED:20240919T152202Z
LAST-MODIFIED:20241217T212305Z
UID:10000028-1734519600-1734530400@dynamicdrips.com
SUMMARY:Prose Nail Salon
DESCRIPTION:
URL:https://dynamicdrips.com/event/prose-nail-salon-13/
LOCATION:13135 Main St\, Rogers\, MN\, United States
GEO:45.168896;-93.574586
END:VEVENT
BEGIN:VEVENT
DTSTART;TZID=America/Chicago:20241211T110000
DTEND;TZID=America/Chicago:20241211T140000
DTSTAMP:20260420T053451
CREATED:20240919T152202Z
LAST-MODIFIED:20241211T175416Z
UID:10000027-1733914800-1733925600@dynamicdrips.com
SUMMARY:Prose Nail Salon
DESCRIPTION:
URL:https://dynamicdrips.com/event/prose-nail-salon-12/
LOCATION:13135 Main St\, Rogers\, MN\, United States
GEO:45.168896;-93.574586
END:VEVENT
BEGIN:VEVENT
DTSTART;TZID=America/Chicago:20241204T110000
DTEND;TZID=America/Chicago:20241204T140000
DTSTAMP:20260420T053451
CREATED:20240919T152202Z
LAST-MODIFIED:20241204T114524Z
UID:10000026-1733310000-1733320800@dynamicdrips.com
SUMMARY:Prose Nail Salon
DESCRIPTION:
URL:https://dynamicdrips.com/event/prose-nail-salon-11/
LOCATION:13135 Main St\, Rogers\, MN\, United States
GEO:45.168896;-93.574586
END:VEVENT
BEGIN:VEVENT
DTSTART;TZID=America/Chicago:20241127T110000
DTEND;TZID=America/Chicago:20241127T170000
DTSTAMP:20260420T053451
CREATED:20240919T152202Z
LAST-MODIFIED:20241127T083646Z
UID:10000025-1732705200-1732726800@dynamicdrips.com
SUMMARY:Prose Nail Salon
DESCRIPTION:
URL:https://dynamicdrips.com/event/prose-nail-salon-10/
LOCATION:13135 Main St\, Rogers\, MN\, United States
GEO:45.168896;-93.574586
END:VEVENT
BEGIN:VEVENT
DTSTART;TZID=America/Chicago:20241126T110000
DTEND;TZID=America/Chicago:20241126T170000
DTSTAMP:20260420T053451
CREATED:20241126T081926Z
LAST-MODIFIED:20241126T082242Z
UID:10000163-1732618800-1732640400@dynamicdrips.com
SUMMARY:Prose Nail Salon
DESCRIPTION:
URL:https://dynamicdrips.com/event/prose-nail-salon-115/
LOCATION:13135 Main St\, Rogers\, MN\, United States
GEO:45.168896;-93.574586
END:VEVENT
BEGIN:VEVENT
DTSTART;TZID=America/Chicago:20241120T110000
DTEND;TZID=America/Chicago:20241120T140000
DTSTAMP:20260420T053451
CREATED:20240919T152201Z
LAST-MODIFIED:20241120T055836Z
UID:10000023-1732100400-1732111200@dynamicdrips.com
SUMMARY:Prose Nail Salon
DESCRIPTION:
URL:https://dynamicdrips.com/event/prose-nail-salon-9/
LOCATION:13135 Main St\, Rogers\, MN\, United States
GEO:45.168896;-93.574586
END:VEVENT
BEGIN:VEVENT
DTSTART;TZID=America/Chicago:20241113T110000
DTEND;TZID=America/Chicago:20241113T140000
DTSTAMP:20260420T053451
CREATED:20240919T152148Z
LAST-MODIFIED:20241113T034551Z
UID:10000021-1731495600-1731506400@dynamicdrips.com
SUMMARY:Prose Nail Salon
DESCRIPTION:
URL:https://dynamicdrips.com/event/prose-nail-salon-8/
LOCATION:13135 Main St\, Rogers\, MN\, United States
GEO:45.168896;-93.574586
END:VEVENT
BEGIN:VEVENT
DTSTART;TZID=America/Chicago:20241106T110000
DTEND;TZID=America/Chicago:20241106T140000
DTSTAMP:20260420T053451
CREATED:20240919T152148Z
LAST-MODIFIED:20241106T014511Z
UID:10000019-1730890800-1730901600@dynamicdrips.com
SUMMARY:Prose Nail Salon
DESCRIPTION:
URL:https://dynamicdrips.com/event/prose-nail-salon-7/
LOCATION:13135 Main St\, Rogers\, MN\, United States
GEO:45.168896;-93.574586
END:VEVENT
BEGIN:VEVENT
DTSTART;TZID=America/Chicago:20241030T110000
DTEND;TZID=America/Chicago:20241030T140000
DTSTAMP:20260420T053451
CREATED:20240919T152148Z
LAST-MODIFIED:20241030T004354Z
UID:10000018-1730286000-1730296800@dynamicdrips.com
SUMMARY:Prose Nail Salon
DESCRIPTION:
URL:https://dynamicdrips.com/event/prose-nail-salon-6/
LOCATION:13135 Main St\, Rogers\, MN\, United States
GEO:45.168896;-93.574586
END:VEVENT
BEGIN:VEVENT
DTSTART;TZID=America/Chicago:20241023T110000
DTEND;TZID=America/Chicago:20241023T140000
DTSTAMP:20260420T053451
CREATED:20240919T152147Z
LAST-MODIFIED:20241022T230308Z
UID:10000017-1729681200-1729692000@dynamicdrips.com
SUMMARY:Prose Nail Salon
DESCRIPTION:
URL:https://dynamicdrips.com/event/prose-nail-salon-5/
LOCATION:13135 Main St\, Rogers\, MN\, United States
GEO:45.168896;-93.574586
END:VEVENT
BEGIN:VEVENT
DTSTART;TZID=America/Chicago:20241016T110000
DTEND;TZID=America/Chicago:20241016T140000
DTSTAMP:20260420T053451
CREATED:20240919T152147Z
LAST-MODIFIED:20241015T215019Z
UID:10000016-1729076400-1729087200@dynamicdrips.com
SUMMARY:Prose Nail Salon
DESCRIPTION:
URL:https://dynamicdrips.com/event/prose-nail-salon-4/
LOCATION:13135 Main St\, Rogers\, MN\, United States
GEO:45.168896;-93.574586
END:VEVENT
BEGIN:VEVENT
DTSTART;TZID=America/Chicago:20241009T110000
DTEND;TZID=America/Chicago:20241009T140000
DTSTAMP:20260420T053451
CREATED:20240919T152147Z
LAST-MODIFIED:20241008T205653Z
UID:10000015-1728471600-1728482400@dynamicdrips.com
SUMMARY:Prose Nail Salon
DESCRIPTION:
URL:https://dynamicdrips.com/event/prose-nail-salon-3/
LOCATION:13135 Main St\, Rogers\, MN\, United States
GEO:45.168896;-93.574586
END:VEVENT
BEGIN:VEVENT
DTSTART;TZID=America/Chicago:20241002T110000
DTEND;TZID=America/Chicago:20241002T140000
DTSTAMP:20260420T053451
CREATED:20240919T152133Z
LAST-MODIFIED:20241002T181155Z
UID:10000013-1727866800-1727877600@dynamicdrips.com
SUMMARY:Prose Nail Salon
DESCRIPTION:
URL:https://dynamicdrips.com/event/prose-nail-salon-2/
LOCATION:13135 Main St\, Rogers\, MN\, United States
GEO:45.168896;-93.574586
END:VEVENT
BEGIN:VEVENT
DTSTART;TZID=America/Chicago:20240925T110000
DTEND;TZID=America/Chicago:20240925T140000
DTSTAMP:20260420T053451
CREATED:20240919T152133Z
LAST-MODIFIED:20240925T164820Z
UID:10000012-1727262000-1727272800@dynamicdrips.com
SUMMARY:Prose Nail Salon
DESCRIPTION:
URL:https://dynamicdrips.com/event/prose-nail-salon/
LOCATION:13135 Main St\, Rogers\, MN\, United States
GEO:45.168896;-93.574586
END:VEVENT
END:VCALENDAR