

BEGIN:VCALENDAR
VERSION:2.0
PRODID:-//Dynamic Drips - ECPv6.15.20//NONSGML v1.0//EN
CALSCALE:GREGORIAN
METHOD:PUBLISH
X-ORIGINAL-URL:https://dynamicdrips.com
X-WR-CALDESC:Events for Dynamic Drips
REFRESH-INTERVAL;VALUE=DURATION:PT1H
X-Robots-Tag:noindex
X-PUBLISHED-TTL:PT1H
BEGIN:VTIMEZONE
TZID:America/Chicago
BEGIN:DAYLIGHT
TZOFFSETFROM:-0600
TZOFFSETTO:-0500
TZNAME:CDT
DTSTART:20250309T080000
END:DAYLIGHT
BEGIN:STANDARD
TZOFFSETFROM:-0500
TZOFFSETTO:-0600
TZNAME:CST
DTSTART:20251102T070000
END:STANDARD
BEGIN:DAYLIGHT
TZOFFSETFROM:-0600
TZOFFSETTO:-0500
TZNAME:CDT
DTSTART:20260308T080000
END:DAYLIGHT
BEGIN:STANDARD
TZOFFSETFROM:-0500
TZOFFSETTO:-0600
TZNAME:CST
DTSTART:20261101T070000
END:STANDARD
BEGIN:DAYLIGHT
TZOFFSETFROM:-0600
TZOFFSETTO:-0500
TZNAME:CDT
DTSTART:20270314T080000
END:DAYLIGHT
BEGIN:STANDARD
TZOFFSETFROM:-0500
TZOFFSETTO:-0600
TZNAME:CST
DTSTART:20271107T070000
END:STANDARD
END:VTIMEZONE
BEGIN:VEVENT
DTSTART;TZID=America/Chicago:20260207T083000
DTEND;TZID=America/Chicago:20260207T160000
DTSTAMP:20260420T040257
CREATED:20260127T023901Z
LAST-MODIFIED:20260207T105620Z
UID:10000472-1770453000-1770480000@dynamicdrips.com
SUMMARY:Wayzata Chilly Open
DESCRIPTION:Dynamic Drips is bringing the wellness energy to the 41st Annual Wayzata Chilly Open on Saturday\, February 7\, 2026\, as an official golf hole sponsor! Come visit us between 9 AM–4 PM for fun games\, photo ops\, and exclusive event-day IV specials and complimentary Vitamin Injections to keep you energized on the ice.
URL:https://dynamicdrips.com/event/wayzata-chilly-open/
LOCATION:294 Grove Ln E\, Wayzata\, MN\, United States
GEO:44.984663;-93.542233
END:VEVENT
END:VCALENDAR