

BEGIN:VCALENDAR
VERSION:2.0
PRODID:-//Dynamic Drips - ECPv6.15.20//NONSGML v1.0//EN
CALSCALE:GREGORIAN
METHOD:PUBLISH
X-WR-CALNAME:Dynamic Drips
X-ORIGINAL-URL:https://dynamicdrips.com
X-WR-CALDESC:Events for Dynamic Drips
REFRESH-INTERVAL;VALUE=DURATION:PT1H
X-Robots-Tag:noindex
X-PUBLISHED-TTL:PT1H
BEGIN:VTIMEZONE
TZID:America/Chicago
BEGIN:DAYLIGHT
TZOFFSETFROM:-0600
TZOFFSETTO:-0500
TZNAME:CDT
DTSTART:20230312T080000
END:DAYLIGHT
BEGIN:STANDARD
TZOFFSETFROM:-0500
TZOFFSETTO:-0600
TZNAME:CST
DTSTART:20231105T070000
END:STANDARD
BEGIN:DAYLIGHT
TZOFFSETFROM:-0600
TZOFFSETTO:-0500
TZNAME:CDT
DTSTART:20240310T080000
END:DAYLIGHT
BEGIN:STANDARD
TZOFFSETFROM:-0500
TZOFFSETTO:-0600
TZNAME:CST
DTSTART:20241103T070000
END:STANDARD
BEGIN:DAYLIGHT
TZOFFSETFROM:-0600
TZOFFSETTO:-0500
TZNAME:CDT
DTSTART:20250309T080000
END:DAYLIGHT
BEGIN:STANDARD
TZOFFSETFROM:-0500
TZOFFSETTO:-0600
TZNAME:CST
DTSTART:20251102T070000
END:STANDARD
BEGIN:DAYLIGHT
TZOFFSETFROM:-0600
TZOFFSETTO:-0500
TZNAME:CDT
DTSTART:20260308T080000
END:DAYLIGHT
BEGIN:STANDARD
TZOFFSETFROM:-0500
TZOFFSETTO:-0600
TZNAME:CST
DTSTART:20261101T070000
END:STANDARD
END:VTIMEZONE
BEGIN:VEVENT
DTSTART;TZID=America/Chicago:20250315T090000
DTEND;TZID=America/Chicago:20250315T140000
DTSTAMP:20260422T103420
CREATED:20250307T095527Z
LAST-MODIFIED:20250315T185348Z
UID:10000235-1742029200-1742047200@dynamicdrips.com
SUMMARY:Pop-Up Lodge Nurition
DESCRIPTION:
URL:https://dynamicdrips.com/event/pop-up-lodge-nurition-2/
LOCATION:31 NE 2nd Ave\, Forest Lake\, MN\, United States
GEO:45.246466;-92.949266
END:VEVENT
BEGIN:VEVENT
DTSTART;TZID=America/Chicago:20250118T090000
DTEND;TZID=America/Chicago:20250118T120000
DTSTAMP:20260422T103420
CREATED:20250109T200203Z
LAST-MODIFIED:20250116T024043Z
UID:10000196-1737190800-1737201600@dynamicdrips.com
SUMMARY:Pop-Up Lodge Nurition
DESCRIPTION:Join with Google Meet: https://meet.google.com/pph-ehwv-azv\nOr dial: (US) +1 415-604-0480 PIN: 514763559#\nMore phone numbers: https://tel.meet/pph-ehwv-azv?pin=8005393694777&hs=7\nLearn more about Meet at: https://support.google.com/a/users/answer/9282720
URL:https://dynamicdrips.com/event/pop-up-lodge-nurition/
LOCATION:31 NE 2nd Ave\, Forest Lake\, MN\, United States
GEO:45.246466;-92.949266
END:VEVENT
BEGIN:VEVENT
DTSTART;TZID=America/Chicago:20241116T090000
DTEND;TZID=America/Chicago:20241116T130000
DTSTAMP:20260422T103420
CREATED:20241110T030202Z
LAST-MODIFIED:20241116T043947Z
UID:10000153-1731747600-1731762000@dynamicdrips.com
SUMMARY:The Lodge Energy and Nutrition
DESCRIPTION:
URL:https://dynamicdrips.com/event/the-lodge-energy-and-nutrition/
LOCATION:31 NE 2nd Ave\, Forest Lake\, MN\, United States
GEO:45.246466;-92.949266
END:VEVENT
END:VCALENDAR