

BEGIN:VCALENDAR
VERSION:2.0
PRODID:-//Dynamic Drips - ECPv6.15.20//NONSGML v1.0//EN
CALSCALE:GREGORIAN
METHOD:PUBLISH
X-ORIGINAL-URL:https://dynamicdrips.com
X-WR-CALDESC:Events for Dynamic Drips
REFRESH-INTERVAL;VALUE=DURATION:PT1H
X-Robots-Tag:noindex
X-PUBLISHED-TTL:PT1H
BEGIN:VTIMEZONE
TZID:America/Chicago
BEGIN:DAYLIGHT
TZOFFSETFROM:-0600
TZOFFSETTO:-0500
TZNAME:CDT
DTSTART:20250309T080000
END:DAYLIGHT
BEGIN:STANDARD
TZOFFSETFROM:-0500
TZOFFSETTO:-0600
TZNAME:CST
DTSTART:20251102T070000
END:STANDARD
BEGIN:DAYLIGHT
TZOFFSETFROM:-0600
TZOFFSETTO:-0500
TZNAME:CDT
DTSTART:20260308T080000
END:DAYLIGHT
BEGIN:STANDARD
TZOFFSETFROM:-0500
TZOFFSETTO:-0600
TZNAME:CST
DTSTART:20261101T070000
END:STANDARD
BEGIN:DAYLIGHT
TZOFFSETFROM:-0600
TZOFFSETTO:-0500
TZNAME:CDT
DTSTART:20270314T080000
END:DAYLIGHT
BEGIN:STANDARD
TZOFFSETFROM:-0500
TZOFFSETTO:-0600
TZNAME:CST
DTSTART:20271107T070000
END:STANDARD
END:VTIMEZONE
BEGIN:VEVENT
DTSTART;TZID=America/Chicago:20260208T110000
DTEND;TZID=America/Chicago:20260208T170000
DTSTAMP:20260420T053448
CREATED:20260204T150507Z
LAST-MODIFIED:20260208T105656Z
UID:10000477-1770548400-1770570000@dynamicdrips.com
SUMMARY:Excelsior Art Crawl
DESCRIPTION:Dynamic Drips is thrilled to be part of the Excelsior Art Crawl\, a free community event celebrating local art\, creativity\, and wellness! We’ll be set up in Zone 2 – the BEEM Light Sauna Wellness Zone\, offering exclusive IV hydration and vitamin injection specials. Stop by for a boost while you explore amazing art and connect with local vendors!
URL:https://dynamicdrips.com/event/excelsior-art-crawl-3/
LOCATION:355 2nd St suite 400\, Excelsior\, MN\, United States
GEO:44.9033;-93.56635
END:VEVENT
BEGIN:VEVENT
DTSTART;TZID=America/Chicago:20260208T110000
DTEND;TZID=America/Chicago:20260208T170000
DTSTAMP:20260420T053448
CREATED:20260204T150507Z
LAST-MODIFIED:20260204T150507Z
UID:10000475-1770548400-1770570000@dynamicdrips.com
SUMMARY:Excelsior Art Crawl
DESCRIPTION:Dynamic Drips is thrilled to be part of the Excelsior Art Crawl\, a free community event celebrating local art\, creativity\, and wellness! We’ll be set up in Zone 2 – the BEEM Light Sauna Wellness Zone\, offering exclusive IV hydration and vitamin injection specials. Stop by for a boost while you explore amazing art and connect with local vendors!
URL:https://dynamicdrips.com/event/excelsior-art-crawl-4/
LOCATION:355 2nd St suite 400\, Excelsior\, MN\, United States
GEO:44.9033;-93.56635
END:VEVENT
BEGIN:VEVENT
DTSTART;TZID=America/Chicago:20260207T110000
DTEND;TZID=America/Chicago:20260207T150000
DTSTAMP:20260420T053448
CREATED:20260204T150504Z
LAST-MODIFIED:20260207T105619Z
UID:10000476-1770462000-1770476400@dynamicdrips.com
SUMMARY:Excelsior Art Crawl
DESCRIPTION:Dynamic Drips is thrilled to be part of the Excelsior Art Crawl\, a free community event celebrating local art\, creativity\, and wellness! We’ll be set up in Zone 2 – the BEEM Light Sauna Wellness Zone\, offering exclusive IV hydration and vitamin injection specials. Stop by for a boost while you explore amazing art and connect with local vendors!
URL:https://dynamicdrips.com/event/excelsior-art-crawl/
LOCATION:355 2nd St suite 400\, Excelsior\, MN\, United States
GEO:44.9033;-93.56635
END:VEVENT
BEGIN:VEVENT
DTSTART;TZID=America/Chicago:20260207T110000
DTEND;TZID=America/Chicago:20260207T150000
DTSTAMP:20260420T053448
CREATED:20260204T150504Z
LAST-MODIFIED:20260204T150504Z
UID:10000474-1770462000-1770476400@dynamicdrips.com
SUMMARY:Excelsior Art Crawl
DESCRIPTION:Dynamic Drips is thrilled to be part of the Excelsior Art Crawl\, a free community event celebrating local art\, creativity\, and wellness! We’ll be set up in Zone 2 – the BEEM Light Sauna Wellness Zone\, offering exclusive IV hydration and vitamin injection specials. Stop by for a boost while you explore amazing art and connect with local vendors!
URL:https://dynamicdrips.com/event/excelsior-art-crawl-2/
LOCATION:355 2nd St suite 400\, Excelsior\, MN\, United States
GEO:44.9033;-93.56635
END:VEVENT
END:VCALENDAR