

BEGIN:VCALENDAR
VERSION:2.0
PRODID:-//Dynamic Drips - ECPv6.15.20//NONSGML v1.0//EN
CALSCALE:GREGORIAN
METHOD:PUBLISH
X-WR-CALNAME:Dynamic Drips
X-ORIGINAL-URL:https://dynamicdrips.com
X-WR-CALDESC:Events for Dynamic Drips
REFRESH-INTERVAL;VALUE=DURATION:PT1H
X-Robots-Tag:noindex
X-PUBLISHED-TTL:PT1H
BEGIN:VTIMEZONE
TZID:America/Chicago
BEGIN:DAYLIGHT
TZOFFSETFROM:-0600
TZOFFSETTO:-0500
TZNAME:CDT
DTSTART:20230312T080000
END:DAYLIGHT
BEGIN:STANDARD
TZOFFSETFROM:-0500
TZOFFSETTO:-0600
TZNAME:CST
DTSTART:20231105T070000
END:STANDARD
BEGIN:DAYLIGHT
TZOFFSETFROM:-0600
TZOFFSETTO:-0500
TZNAME:CDT
DTSTART:20240310T080000
END:DAYLIGHT
BEGIN:STANDARD
TZOFFSETFROM:-0500
TZOFFSETTO:-0600
TZNAME:CST
DTSTART:20241103T070000
END:STANDARD
BEGIN:DAYLIGHT
TZOFFSETFROM:-0600
TZOFFSETTO:-0500
TZNAME:CDT
DTSTART:20250309T080000
END:DAYLIGHT
BEGIN:STANDARD
TZOFFSETFROM:-0500
TZOFFSETTO:-0600
TZNAME:CST
DTSTART:20251102T070000
END:STANDARD
BEGIN:DAYLIGHT
TZOFFSETFROM:-0600
TZOFFSETTO:-0500
TZNAME:CDT
DTSTART:20260308T080000
END:DAYLIGHT
BEGIN:STANDARD
TZOFFSETFROM:-0500
TZOFFSETTO:-0600
TZNAME:CST
DTSTART:20261101T070000
END:STANDARD
END:VTIMEZONE
BEGIN:VEVENT
DTSTART;TZID=America/Chicago:20251220T070000
DTEND;TZID=America/Chicago:20251220T120000
DTSTAMP:20260422T090457
CREATED:20251203T125301Z
LAST-MODIFIED:20251219T181540Z
UID:10000439-1766214000-1766232000@dynamicdrips.com
SUMMARY:FLIGHT | Stairmaster & Strength Group Fitness Pop-up
DESCRIPTION:Dynamic Drips is popping up at Flight Stairmaster & Strength Woodbury for a full morning of high-intensity group fitness classes. We’ll be offering discounted IVs and vitamin injections—available to all\, whether you’re working out or just stopping by for a wellness boost!
URL:https://dynamicdrips.com/event/flight-stairmaster-strength-group-fitness-pop-up-3/
LOCATION:5601 Wayzata Blvd\, Minneapolis\, MN\, United States
GEO:44.949714;-93.337326
END:VEVENT
BEGIN:VEVENT
DTSTART;TZID=America/Chicago:20250524T070000
DTEND;TZID=America/Chicago:20250524T120000
DTSTAMP:20260422T090457
CREATED:20250516T174637Z
LAST-MODIFIED:20250524T082929Z
UID:10000268-1748070000-1748088000@dynamicdrips.com
SUMMARY:FLIGHT | Stairmaster & Strength Group Fitness- Pop-Up
DESCRIPTION:https://www.flightmn.com/
URL:https://dynamicdrips.com/event/flight-stairmaster-strength-group-fitness-pop-up/
LOCATION:5601 Wayzata Blvd\, Minneapolis\, MN\, United States
GEO:44.949714;-93.337326
END:VEVENT
BEGIN:VEVENT
DTSTART;TZID=America/Chicago:20241223T070000
DTEND;TZID=America/Chicago:20241223T120000
DTSTAMP:20260422T090457
CREATED:20241206T143533Z
LAST-MODIFIED:20241223T050229Z
UID:10000171-1734937200-1734955200@dynamicdrips.com
SUMMARY:FLIGHT | Stairmaster & Strength Group Fitness-  St Louis Park
DESCRIPTION:https://www.flightmn.com/
URL:https://dynamicdrips.com/event/flight-stairmaster-strength-group-fitness-st-louis-park/
LOCATION:5601 Wayzata Blvd\, Minneapolis\, MN\, United States
GEO:44.949714;-93.337326
END:VEVENT
END:VCALENDAR