

BEGIN:VCALENDAR
VERSION:2.0
PRODID:-//Dynamic Drips - ECPv6.15.20//NONSGML v1.0//EN
CALSCALE:GREGORIAN
METHOD:PUBLISH
X-ORIGINAL-URL:https://dynamicdrips.com
X-WR-CALDESC:Events for Dynamic Drips
REFRESH-INTERVAL;VALUE=DURATION:PT1H
X-Robots-Tag:noindex
X-PUBLISHED-TTL:PT1H
BEGIN:VTIMEZONE
TZID:America/Chicago
BEGIN:DAYLIGHT
TZOFFSETFROM:-0600
TZOFFSETTO:-0500
TZNAME:CDT
DTSTART:20250309T080000
END:DAYLIGHT
BEGIN:STANDARD
TZOFFSETFROM:-0500
TZOFFSETTO:-0600
TZNAME:CST
DTSTART:20251102T070000
END:STANDARD
BEGIN:DAYLIGHT
TZOFFSETFROM:-0600
TZOFFSETTO:-0500
TZNAME:CDT
DTSTART:20260308T080000
END:DAYLIGHT
BEGIN:STANDARD
TZOFFSETFROM:-0500
TZOFFSETTO:-0600
TZNAME:CST
DTSTART:20261101T070000
END:STANDARD
BEGIN:DAYLIGHT
TZOFFSETFROM:-0600
TZOFFSETTO:-0500
TZNAME:CDT
DTSTART:20270314T080000
END:DAYLIGHT
BEGIN:STANDARD
TZOFFSETFROM:-0500
TZOFFSETTO:-0600
TZNAME:CST
DTSTART:20271107T070000
END:STANDARD
END:VTIMEZONE
BEGIN:VEVENT
DTSTART;TZID=America/Chicago:20260415T183000
DTEND;TZID=America/Chicago:20260415T203000
DTSTAMP:20260420T040221
CREATED:20260325T024758Z
LAST-MODIFIED:20260415T021957Z
UID:10000506-1776277800-1776285000@dynamicdrips.com
SUMMARY:ABLE Chiropractic Women's Wellness Event
DESCRIPTION:Dynamic Drips will be onsite at ABLE Chiropractic for an exciting Women’s Wellness Vendor Event! Join us to connect with local wellness providers and enjoy special event offerings\, including 15% off all services.
URL:https://dynamicdrips.com/event/able-chiropractic-womens-wellness-event/
LOCATION:ABLE Chiropractic\, 398 Palomino Dr S\, Apple Valley\, MN\, United States
GEO:44.76528;-93.226751
X-APPLE-STRUCTURED-LOCATION;VALUE=URI;X-ADDRESS=ABLE Chiropractic 398 Palomino Dr S Apple Valley MN United States;X-APPLE-RADIUS=500;X-TITLE=398 Palomino Dr S:geo:-93.226751,44.76528
END:VEVENT
END:VCALENDAR