

BEGIN:VCALENDAR
VERSION:2.0
PRODID:-//Dynamic Drips - ECPv6.15.20//NONSGML v1.0//EN
CALSCALE:GREGORIAN
METHOD:PUBLISH
X-ORIGINAL-URL:https://dynamicdrips.com
X-WR-CALDESC:Events for Dynamic Drips
REFRESH-INTERVAL;VALUE=DURATION:PT1H
X-Robots-Tag:noindex
X-PUBLISHED-TTL:PT1H
BEGIN:VTIMEZONE
TZID:America/Chicago
BEGIN:DAYLIGHT
TZOFFSETFROM:-0600
TZOFFSETTO:-0500
TZNAME:CDT
DTSTART:20250309T080000
END:DAYLIGHT
BEGIN:STANDARD
TZOFFSETFROM:-0500
TZOFFSETTO:-0600
TZNAME:CST
DTSTART:20251102T070000
END:STANDARD
BEGIN:DAYLIGHT
TZOFFSETFROM:-0600
TZOFFSETTO:-0500
TZNAME:CDT
DTSTART:20260308T080000
END:DAYLIGHT
BEGIN:STANDARD
TZOFFSETFROM:-0500
TZOFFSETTO:-0600
TZNAME:CST
DTSTART:20261101T070000
END:STANDARD
BEGIN:DAYLIGHT
TZOFFSETFROM:-0600
TZOFFSETTO:-0500
TZNAME:CDT
DTSTART:20270314T080000
END:DAYLIGHT
BEGIN:STANDARD
TZOFFSETFROM:-0500
TZOFFSETTO:-0600
TZNAME:CST
DTSTART:20271107T070000
END:STANDARD
END:VTIMEZONE
BEGIN:VEVENT
DTSTART;TZID=America/Chicago:20260307T140000
DTEND;TZID=America/Chicago:20260307T160000
DTSTAMP:20260420T040838
CREATED:20260110T024512Z
LAST-MODIFIED:20260221T182415Z
UID:10000455-1772892000-1772899200@dynamicdrips.com
SUMMARY:Alloy SLP 1 Year Anniversary Party
DESCRIPTION:Join us in celebrating an incredible year at Alloy Personal Training in SLP! Dynamic Drips will be onsite offering discount services and event only specials for Alloy members. Learn more about  Alloy | SLP/ St. Louis Park\, MN – Alloy Personal Training | Superior Personal Training For An Active Lifestyle
URL:https://dynamicdrips.com/event/alloy-slp-1-year-anniversary-party/
LOCATION:Alloy Personal Training SLP/St. Louis Park\, 8128 Park Ave S\, Minneapolis\, MN\, United States
GEO:44.856856;-93.265742
X-APPLE-STRUCTURED-LOCATION;VALUE=URI;X-ADDRESS=Alloy Personal Training SLP/St. Louis Park 8128 Park Ave S Minneapolis MN United States;X-APPLE-RADIUS=500;X-TITLE=8128 Park Ave S:geo:-93.265742,44.856856
END:VEVENT
END:VCALENDAR