

BEGIN:VCALENDAR
VERSION:2.0
PRODID:-//Dynamic Drips - ECPv6.15.20//NONSGML v1.0//EN
CALSCALE:GREGORIAN
METHOD:PUBLISH
X-WR-CALNAME:Dynamic Drips
X-ORIGINAL-URL:https://dynamicdrips.com
X-WR-CALDESC:Events for Dynamic Drips
REFRESH-INTERVAL;VALUE=DURATION:PT1H
X-Robots-Tag:noindex
X-PUBLISHED-TTL:PT1H
BEGIN:VTIMEZONE
TZID:America/Chicago
BEGIN:DAYLIGHT
TZOFFSETFROM:-0600
TZOFFSETTO:-0500
TZNAME:CDT
DTSTART:20240310T080000
END:DAYLIGHT
BEGIN:STANDARD
TZOFFSETFROM:-0500
TZOFFSETTO:-0600
TZNAME:CST
DTSTART:20241103T070000
END:STANDARD
BEGIN:DAYLIGHT
TZOFFSETFROM:-0600
TZOFFSETTO:-0500
TZNAME:CDT
DTSTART:20250309T080000
END:DAYLIGHT
BEGIN:STANDARD
TZOFFSETFROM:-0500
TZOFFSETTO:-0600
TZNAME:CST
DTSTART:20251102T070000
END:STANDARD
BEGIN:DAYLIGHT
TZOFFSETFROM:-0600
TZOFFSETTO:-0500
TZNAME:CDT
DTSTART:20260308T080000
END:DAYLIGHT
BEGIN:STANDARD
TZOFFSETFROM:-0500
TZOFFSETTO:-0600
TZNAME:CST
DTSTART:20261101T070000
END:STANDARD
BEGIN:DAYLIGHT
TZOFFSETFROM:-0600
TZOFFSETTO:-0500
TZNAME:CDT
DTSTART:20270314T080000
END:DAYLIGHT
BEGIN:STANDARD
TZOFFSETFROM:-0500
TZOFFSETTO:-0600
TZNAME:CST
DTSTART:20271107T070000
END:STANDARD
END:VTIMEZONE
BEGIN:VEVENT
DTSTART;TZID=America/Chicago:20260307T120000
DTEND;TZID=America/Chicago:20260307T150000
DTSTAMP:20260420T053819
CREATED:20260305T201318Z
LAST-MODIFIED:20260307T202646Z
UID:10000496-1772884800-1772895600@dynamicdrips.com
SUMMARY:Burn Boot Camp Albertville Open House
DESCRIPTION:Join us at Burn Boot Camp Albertville for an exciting Open House where you can meet with the team and other local vendors. Dynamic Drips will be there offering 15% off all Services!
URL:https://dynamicdrips.com/event/burn-boot-camp-albertville-open-house/
LOCATION:Burn Boot Camp\, 6737 Labeaux Ave NE\, Albertville\, MN\, United States
GEO:45.248717;-93.663369
X-APPLE-STRUCTURED-LOCATION;VALUE=URI;X-ADDRESS=Burn Boot Camp 6737 Labeaux Ave NE Albertville MN United States;X-APPLE-RADIUS=500;X-TITLE=6737 Labeaux Ave NE:geo:-93.663369,45.248717
END:VEVENT
BEGIN:VEVENT
DTSTART;TZID=America/Chicago:20260213T190000
DTEND;TZID=America/Chicago:20260213T210000
DTSTAMP:20260420T053819
CREATED:20260124T084030Z
LAST-MODIFIED:20260213T114655Z
UID:10000469-1771009200-1771016400@dynamicdrips.com
SUMMARY:Galentine's Night at Burn Boot Camp Apple Valley
DESCRIPTION:Grab your girls and join us for a fun Galentine’s celebration with games\, puzzles\, mocktails\, and feel-good vibes!  Dynamic Drips will be there offering complimentary B12 shots and exclusive discounted services\, along with special event-only discounts from all vendors including Permanent Jewelry designer\, and teeth whitening services. Come hang out\, treat yourself\, and celebrate friendship in style! 
URL:https://dynamicdrips.com/event/galentines-night-at-burn-boot-camp-apple-valley/
LOCATION:Burn Boot Camp\, 6737 Labeaux Ave NE\, Albertville\, MN\, United States
GEO:45.248717;-93.663369
X-APPLE-STRUCTURED-LOCATION;VALUE=URI;X-ADDRESS=Burn Boot Camp 6737 Labeaux Ave NE Albertville MN United States;X-APPLE-RADIUS=500;X-TITLE=6737 Labeaux Ave NE:geo:-93.663369,45.248717
END:VEVENT
BEGIN:VEVENT
DTSTART;TZID=America/Chicago:20260124T100000
DTEND;TZID=America/Chicago:20260124T120000
DTSTAMP:20260420T053819
CREATED:20260121T151932Z
LAST-MODIFIED:20260123T083341Z
UID:10000463-1769248800-1769256000@dynamicdrips.com
SUMMARY:Burn and Brunch: Signing Day Edition
DESCRIPTION:Join us at Burn Boot Camp- Coon Rapids for a special Burn and Brunch + the official signing day for the Winter Promo!! Dynamic Drips will be there ready to keep you hydrated and pumped with 15% off all IV and Vitamin injection services!
URL:https://dynamicdrips.com/event/burn-and-brunch-signing-day-edition/
LOCATION:Burn Boot Camp\, 6737 Labeaux Ave NE\, Albertville\, MN\, United States
GEO:45.248717;-93.663369
X-APPLE-STRUCTURED-LOCATION;VALUE=URI;X-ADDRESS=Burn Boot Camp 6737 Labeaux Ave NE Albertville MN United States;X-APPLE-RADIUS=500;X-TITLE=6737 Labeaux Ave NE:geo:-93.663369,45.248717
END:VEVENT
BEGIN:VEVENT
DTSTART;TZID=America/Chicago:20251206T100000
DTEND;TZID=America/Chicago:20251206T123000
DTSTAMP:20260420T053819
CREATED:20251022T212621Z
LAST-MODIFIED:20251206T132614Z
UID:10000425-1765015200-1765024200@dynamicdrips.com
SUMMARY:Burn Boot Camp Holiday Market
DESCRIPTION:Join Dynamic Drips at Burn Boot Camp’s Holiday Vendor Market\, a festive event featuring local small businesses\, holiday shopping\, and even photos with Santa! It’s the perfect way to support local while getting into the holiday spirit. We’ll be offering discounted IVs and wellness injections\, come by for a boost while you browse and celebrate!
URL:https://dynamicdrips.com/event/burn-boot-camp-holiday-market/
LOCATION:Burn Boot Camp\, 6737 Labeaux Ave NE\, Albertville\, MN\, United States
GEO:45.248717;-93.663369
X-APPLE-STRUCTURED-LOCATION;VALUE=URI;X-ADDRESS=Burn Boot Camp 6737 Labeaux Ave NE Albertville MN United States;X-APPLE-RADIUS=500;X-TITLE=6737 Labeaux Ave NE:geo:-93.663369,45.248717
END:VEVENT
BEGIN:VEVENT
DTSTART;TZID=America/Chicago:20250928T130000
DTEND;TZID=America/Chicago:20250928T150000
DTSTAMP:20260420T053819
CREATED:20250820T164425Z
LAST-MODIFIED:20250928T141901Z
UID:10000400-1759064400-1759071600@dynamicdrips.com
SUMMARY:Burn Boot Camp’s Fall Signing Day & Open House
DESCRIPTION:Dynamic Drips is joining Burn Boot Camp’s Fall Signing Day & Open House! This energetic event is all about celebrating community\, meeting new members\, and showcasing local businesses. Stop by our booth to learn more about mobile IV hydration\, grab exclusive event-only discounts\, and enter a giveaway while you’re there!
URL:https://dynamicdrips.com/event/burn-boot-camps-fall-signing-day-open-house/
LOCATION:Burn Boot Camp\, 6737 Labeaux Ave NE\, Albertville\, MN\, United States
GEO:45.248717;-93.663369
X-APPLE-STRUCTURED-LOCATION;VALUE=URI;X-ADDRESS=Burn Boot Camp 6737 Labeaux Ave NE Albertville MN United States;X-APPLE-RADIUS=500;X-TITLE=6737 Labeaux Ave NE:geo:-93.663369,45.248717
END:VEVENT
BEGIN:VEVENT
DTSTART;TZID=America/Chicago:20250816T100000
DTEND;TZID=America/Chicago:20250816T130000
DTSTAMP:20260420T053819
CREATED:20250807T104711Z
LAST-MODIFIED:20250816T153639Z
UID:10000338-1755338400-1755349200@dynamicdrips.com
SUMMARY:Regional Athlete Games at Burn Boot Camp
DESCRIPTION:Burn Boot Camp Woodbury regional competition event- Dynamic Drips will be in the Athlete Recovery Room helping these all star Athletes stay energized and hydrated throughout the day!
URL:https://dynamicdrips.com/event/regional-athlete-games-at-burn-boot-camp/
LOCATION:Burn Boot Camp\, 6737 Labeaux Ave NE\, Albertville\, MN\, United States
GEO:45.248717;-93.663369
X-APPLE-STRUCTURED-LOCATION;VALUE=URI;X-ADDRESS=Burn Boot Camp 6737 Labeaux Ave NE Albertville MN United States;X-APPLE-RADIUS=500;X-TITLE=6737 Labeaux Ave NE:geo:-93.663369,45.248717
END:VEVENT
END:VCALENDAR