

BEGIN:VCALENDAR
VERSION:2.0
PRODID:-//Dynamic Drips - ECPv6.15.20//NONSGML v1.0//EN
CALSCALE:GREGORIAN
METHOD:PUBLISH
X-WR-CALNAME:Dynamic Drips
X-ORIGINAL-URL:https://dynamicdrips.com
X-WR-CALDESC:Events for Dynamic Drips
REFRESH-INTERVAL;VALUE=DURATION:PT1H
X-Robots-Tag:noindex
X-PUBLISHED-TTL:PT1H
BEGIN:VTIMEZONE
TZID:America/Chicago
BEGIN:DAYLIGHT
TZOFFSETFROM:-0600
TZOFFSETTO:-0500
TZNAME:CDT
DTSTART:20240310T080000
END:DAYLIGHT
BEGIN:STANDARD
TZOFFSETFROM:-0500
TZOFFSETTO:-0600
TZNAME:CST
DTSTART:20241103T070000
END:STANDARD
BEGIN:DAYLIGHT
TZOFFSETFROM:-0600
TZOFFSETTO:-0500
TZNAME:CDT
DTSTART:20250309T080000
END:DAYLIGHT
BEGIN:STANDARD
TZOFFSETFROM:-0500
TZOFFSETTO:-0600
TZNAME:CST
DTSTART:20251102T070000
END:STANDARD
BEGIN:DAYLIGHT
TZOFFSETFROM:-0600
TZOFFSETTO:-0500
TZNAME:CDT
DTSTART:20260308T080000
END:DAYLIGHT
BEGIN:STANDARD
TZOFFSETFROM:-0500
TZOFFSETTO:-0600
TZNAME:CST
DTSTART:20261101T070000
END:STANDARD
END:VTIMEZONE
BEGIN:VEVENT
DTSTART;TZID=America/Chicago:20250724T090000
DTEND;TZID=America/Chicago:20250724T140000
DTSTAMP:20260419T225839
CREATED:20250723T022403Z
LAST-MODIFIED:20250724T053416Z
UID:10000320-1753347600-1753365600@dynamicdrips.com
SUMMARY:FACE FOUNDRIÉ- St. Paul Partnership
DESCRIPTION:Join with Google Meet: https://meet.google.com/yrg-mrdm-axm\nLearn more about Meet at: https://support.google.com/a/users/answer/9282720
URL:https://dynamicdrips.com/event/face-foundrie-st-paul-partnership/
LOCATION:FACE FOUNDRIÉ\, 867 Grand Ave\, Saint Paul\, MN\, United States
GEO:44.940015;-93.136603
X-APPLE-STRUCTURED-LOCATION;VALUE=URI;X-ADDRESS=FACE FOUNDRIÉ 867 Grand Ave Saint Paul MN United States;X-APPLE-RADIUS=500;X-TITLE=867 Grand Ave:geo:-93.136603,44.940015
END:VEVENT
END:VCALENDAR