

BEGIN:VCALENDAR
VERSION:2.0
PRODID:-//Dynamic Drips - ECPv6.15.20//NONSGML v1.0//EN
CALSCALE:GREGORIAN
METHOD:PUBLISH
X-WR-CALNAME:Dynamic Drips
X-ORIGINAL-URL:https://dynamicdrips.com
X-WR-CALDESC:Events for Dynamic Drips
REFRESH-INTERVAL;VALUE=DURATION:PT1H
X-Robots-Tag:noindex
X-PUBLISHED-TTL:PT1H
BEGIN:VTIMEZONE
TZID:America/Chicago
BEGIN:DAYLIGHT
TZOFFSETFROM:-0600
TZOFFSETTO:-0500
TZNAME:CDT
DTSTART:20240310T080000
END:DAYLIGHT
BEGIN:STANDARD
TZOFFSETFROM:-0500
TZOFFSETTO:-0600
TZNAME:CST
DTSTART:20241103T070000
END:STANDARD
BEGIN:DAYLIGHT
TZOFFSETFROM:-0600
TZOFFSETTO:-0500
TZNAME:CDT
DTSTART:20250309T080000
END:DAYLIGHT
BEGIN:STANDARD
TZOFFSETFROM:-0500
TZOFFSETTO:-0600
TZNAME:CST
DTSTART:20251102T070000
END:STANDARD
BEGIN:DAYLIGHT
TZOFFSETFROM:-0600
TZOFFSETTO:-0500
TZNAME:CDT
DTSTART:20260308T080000
END:DAYLIGHT
BEGIN:STANDARD
TZOFFSETFROM:-0500
TZOFFSETTO:-0600
TZNAME:CST
DTSTART:20261101T070000
END:STANDARD
BEGIN:DAYLIGHT
TZOFFSETFROM:-0600
TZOFFSETTO:-0500
TZNAME:CDT
DTSTART:20270314T080000
END:DAYLIGHT
BEGIN:STANDARD
TZOFFSETFROM:-0500
TZOFFSETTO:-0600
TZNAME:CST
DTSTART:20271107T070000
END:STANDARD
END:VTIMEZONE
BEGIN:VEVENT
DTSTART;TZID=America/Chicago:20260328T073000
DTEND;TZID=America/Chicago:20260328T123000
DTSTAMP:20260420T040743
CREATED:20260313T030139Z
LAST-MODIFIED:20260327T234921Z
UID:10000498-1774683000-1774701000@dynamicdrips.com
SUMMARY:FLIGHT | Stairmaster & Strength Group Fitness- Maple Grove
DESCRIPTION:Dynamic Drips is popping up at Flight Stairmaster & Strength Maple Grove for a full morning of high-intensity group fitness classes. We’ll be offering discounted IVs and vitamin injections—available to all\, whether you’re working out or just stopping by for a wellness boost!
URL:https://dynamicdrips.com/event/flight-stairmaster-strength-group-fitness-maple-grove/
LOCATION:FLIGHT | Stairmaster & Strength Group Fitness\, 9298 Elm Creek Blvd\, Osseo\, MN\, United States
GEO:45.123511;-93.447761
X-APPLE-STRUCTURED-LOCATION;VALUE=URI;X-ADDRESS=FLIGHT | Stairmaster & Strength Group Fitness 9298 Elm Creek Blvd Osseo MN United States;X-APPLE-RADIUS=500;X-TITLE=9298 Elm Creek Blvd:geo:-93.447761,45.123511
END:VEVENT
BEGIN:VEVENT
DTSTART;TZID=America/Chicago:20260228T070000
DTEND;TZID=America/Chicago:20260228T120000
DTSTAMP:20260420T040743
CREATED:20260223T184758Z
LAST-MODIFIED:20260228T142651Z
UID:10000487-1772262000-1772280000@dynamicdrips.com
SUMMARY:FLIGHT | Stairmaster & Strength Group Fitness
DESCRIPTION:Dynamic Drips is popping up at Flight Stairmaster & Strength during a full morning of high-intensity group fitness classes at 6:30\, 7:30\, 8:30\, 9:30 and 10:30AM. We’ll be offering discounted IVs and vitamin injections—available to all\, whether you’re working out or just stopping by for a wellness boost!
URL:https://dynamicdrips.com/event/flight-stairmaster-strength-group-fitness-2/
LOCATION:FLIGHT | Stairmaster & Strength Group Fitness\, 9298 Elm Creek Blvd\, Osseo\, MN\, United States
GEO:45.123511;-93.447761
X-APPLE-STRUCTURED-LOCATION;VALUE=URI;X-ADDRESS=FLIGHT | Stairmaster & Strength Group Fitness 9298 Elm Creek Blvd Osseo MN United States;X-APPLE-RADIUS=500;X-TITLE=9298 Elm Creek Blvd:geo:-93.447761,45.123511
END:VEVENT
BEGIN:VEVENT
DTSTART;TZID=America/Chicago:20260117T070000
DTEND;TZID=America/Chicago:20260117T120000
DTSTAMP:20260420T040743
CREATED:20251224T192250Z
LAST-MODIFIED:20260117T144436Z
UID:10000450-1768633200-1768651200@dynamicdrips.com
SUMMARY:FLIGHT | Stairmaster & Strength Group Fitness- Maple Grove Grand Opening
DESCRIPTION:Celebrate the FLIGHT | Stairmaster & Strength Group Fitness Grand Opening on January 17\, 2026! Join the community for an exciting launch event featuring workouts\, connection\, and wellness. Dynamic Drips will be onsite sharing the benefits of proper hydration and offering special event pricing to help you recover\, refuel\, and feel your best!
URL:https://dynamicdrips.com/event/flight-stairmaster-strength-group-fitness-maple-grove-grand-opening/
LOCATION:FLIGHT | Stairmaster & Strength Group Fitness\, 9298 Elm Creek Blvd\, Osseo\, MN\, United States
GEO:45.123511;-93.447761
X-APPLE-STRUCTURED-LOCATION;VALUE=URI;X-ADDRESS=FLIGHT | Stairmaster & Strength Group Fitness 9298 Elm Creek Blvd Osseo MN United States;X-APPLE-RADIUS=500;X-TITLE=9298 Elm Creek Blvd:geo:-93.447761,45.123511
END:VEVENT
BEGIN:VEVENT
DTSTART;TZID=America/Chicago:20250726T070000
DTEND;TZID=America/Chicago:20250726T103000
DTSTAMP:20260420T040743
CREATED:20250723T022404Z
LAST-MODIFIED:20250726T062042Z
UID:10000323-1753513200-1753525800@dynamicdrips.com
SUMMARY:FLIGHT- St Louis Park Pop-Up
DESCRIPTION:
URL:https://dynamicdrips.com/event/flight-st-louis-park-pop-up/
LOCATION:FLIGHT | Stairmaster & Strength Group Fitness\, 9298 Elm Creek Blvd\, Osseo\, MN\, United States
GEO:45.123511;-93.447761
X-APPLE-STRUCTURED-LOCATION;VALUE=URI;X-ADDRESS=FLIGHT | Stairmaster & Strength Group Fitness 9298 Elm Creek Blvd Osseo MN United States;X-APPLE-RADIUS=500;X-TITLE=9298 Elm Creek Blvd:geo:-93.447761,45.123511
END:VEVENT
END:VCALENDAR