

BEGIN:VCALENDAR
VERSION:2.0
PRODID:-//Dynamic Drips - ECPv6.15.20//NONSGML v1.0//EN
CALSCALE:GREGORIAN
METHOD:PUBLISH
X-ORIGINAL-URL:https://dynamicdrips.com
X-WR-CALDESC:Events for Dynamic Drips
REFRESH-INTERVAL;VALUE=DURATION:PT1H
X-Robots-Tag:noindex
X-PUBLISHED-TTL:PT1H
BEGIN:VTIMEZONE
TZID:America/Chicago
BEGIN:DAYLIGHT
TZOFFSETFROM:-0600
TZOFFSETTO:-0500
TZNAME:CDT
DTSTART:20250309T080000
END:DAYLIGHT
BEGIN:STANDARD
TZOFFSETFROM:-0500
TZOFFSETTO:-0600
TZNAME:CST
DTSTART:20251102T070000
END:STANDARD
BEGIN:DAYLIGHT
TZOFFSETFROM:-0600
TZOFFSETTO:-0500
TZNAME:CDT
DTSTART:20260308T080000
END:DAYLIGHT
BEGIN:STANDARD
TZOFFSETFROM:-0500
TZOFFSETTO:-0600
TZNAME:CST
DTSTART:20261101T070000
END:STANDARD
BEGIN:DAYLIGHT
TZOFFSETFROM:-0600
TZOFFSETTO:-0500
TZNAME:CDT
DTSTART:20270314T080000
END:DAYLIGHT
BEGIN:STANDARD
TZOFFSETFROM:-0500
TZOFFSETTO:-0600
TZNAME:CST
DTSTART:20271107T070000
END:STANDARD
END:VTIMEZONE
BEGIN:VEVENT
DTSTART;TZID=America/Chicago:20260214T120000
DTEND;TZID=America/Chicago:20260214T160000
DTSTAMP:20260420T021650
CREATED:20260123T025959Z
LAST-MODIFIED:20260214T115747Z
UID:10000466-1771070400-1771084800@dynamicdrips.com
SUMMARY:Galentine's Day at Graze Food Hall
DESCRIPTION:Celebrate Galentine’s Day with your girls at Graze Food Hall! Dynamic Drips will be onsite sharing IV hydration and wellness education\, plus exclusive event-only pricing to help you feel energized\, refreshed\, and glowing. Grab a bite\, bring a friend\, and treat yourself.
URL:https://dynamicdrips.com/event/galentines-day-at-graze-food-hall/
LOCATION:Graze Food Hall by Travail\, 520 N 4th St\, Minneapolis\, MN\, United States
GEO:44.984603;-93.276989
X-APPLE-STRUCTURED-LOCATION;VALUE=URI;X-ADDRESS=Graze Food Hall by Travail 520 N 4th St Minneapolis MN United States;X-APPLE-RADIUS=500;X-TITLE=520 N 4th St:geo:-93.276989,44.984603
END:VEVENT
END:VCALENDAR