

BEGIN:VCALENDAR
VERSION:2.0
PRODID:-//Dynamic Drips - ECPv6.15.20//NONSGML v1.0//EN
CALSCALE:GREGORIAN
METHOD:PUBLISH
X-WR-CALNAME:Dynamic Drips
X-ORIGINAL-URL:https://dynamicdrips.com
X-WR-CALDESC:Events for Dynamic Drips
REFRESH-INTERVAL;VALUE=DURATION:PT1H
X-Robots-Tag:noindex
X-PUBLISHED-TTL:PT1H
BEGIN:VTIMEZONE
TZID:America/Chicago
BEGIN:DAYLIGHT
TZOFFSETFROM:-0600
TZOFFSETTO:-0500
TZNAME:CDT
DTSTART:20240310T080000
END:DAYLIGHT
BEGIN:STANDARD
TZOFFSETFROM:-0500
TZOFFSETTO:-0600
TZNAME:CST
DTSTART:20241103T070000
END:STANDARD
BEGIN:DAYLIGHT
TZOFFSETFROM:-0600
TZOFFSETTO:-0500
TZNAME:CDT
DTSTART:20250309T080000
END:DAYLIGHT
BEGIN:STANDARD
TZOFFSETFROM:-0500
TZOFFSETTO:-0600
TZNAME:CST
DTSTART:20251102T070000
END:STANDARD
BEGIN:DAYLIGHT
TZOFFSETFROM:-0600
TZOFFSETTO:-0500
TZNAME:CDT
DTSTART:20260308T080000
END:DAYLIGHT
BEGIN:STANDARD
TZOFFSETFROM:-0500
TZOFFSETTO:-0600
TZNAME:CST
DTSTART:20261101T070000
END:STANDARD
END:VTIMEZONE
BEGIN:VEVENT
DTSTART;TZID=America/Chicago:20251206T090000
DTEND;TZID=America/Chicago:20251206T140000
DTSTAMP:20260420T071105
CREATED:20251120T105254Z
LAST-MODIFIED:20251206T132615Z
UID:10000435-1765011600-1765029600@dynamicdrips.com
SUMMARY:Future Nutrition Pop-up
DESCRIPTION:Join us at the Herbalife Future Nutrition Holiday Pop-Up on Dec 6!\nDynamic Drips will be onsite with 15% off IV infusions to keep your energy high through the holidays. 
URL:https://dynamicdrips.com/event/future-nutrition-pop-up/
LOCATION:Herbalife – Future Nutrition\, 10901 Baltimore St NE\, Minneapolis\, MN\, United States
GEO:45.169615;-93.233226
X-APPLE-STRUCTURED-LOCATION;VALUE=URI;X-ADDRESS=Herbalife – Future Nutrition 10901 Baltimore St NE Minneapolis MN United States;X-APPLE-RADIUS=500;X-TITLE=10901 Baltimore St NE:geo:-93.233226,45.169615
END:VEVENT
BEGIN:VEVENT
DTSTART;TZID=America/Chicago:20251129T090000
DTEND;TZID=America/Chicago:20251129T140000
DTSTAMP:20260420T071105
CREATED:20251126T113833Z
LAST-MODIFIED:20251129T122828Z
UID:10000436-1764406800-1764424800@dynamicdrips.com
SUMMARY:Future Nutrition Small Business Saturday
DESCRIPTION:Shop Small with lots of local vendors for Small Business Saturday! Fresh sourdough\, granola\, scones\, Spruce Pots and Dynamic Drips featuring 15% off all services.
URL:https://dynamicdrips.com/event/future-nutrition-small-business-saturday/
LOCATION:Herbalife – Future Nutrition\, 10901 Baltimore St NE\, Minneapolis\, MN\, United States
GEO:45.169615;-93.233226
X-APPLE-STRUCTURED-LOCATION;VALUE=URI;X-ADDRESS=Herbalife – Future Nutrition 10901 Baltimore St NE Minneapolis MN United States;X-APPLE-RADIUS=500;X-TITLE=10901 Baltimore St NE:geo:-93.233226,45.169615
END:VEVENT
END:VCALENDAR