

BEGIN:VCALENDAR
VERSION:2.0
PRODID:-//Dynamic Drips - ECPv6.15.20//NONSGML v1.0//EN
CALSCALE:GREGORIAN
METHOD:PUBLISH
X-WR-CALNAME:Dynamic Drips
X-ORIGINAL-URL:https://dynamicdrips.com
X-WR-CALDESC:Events for Dynamic Drips
REFRESH-INTERVAL;VALUE=DURATION:PT1H
X-Robots-Tag:noindex
X-PUBLISHED-TTL:PT1H
BEGIN:VTIMEZONE
TZID:America/Chicago
BEGIN:DAYLIGHT
TZOFFSETFROM:-0600
TZOFFSETTO:-0500
TZNAME:CDT
DTSTART:20250309T080000
END:DAYLIGHT
BEGIN:STANDARD
TZOFFSETFROM:-0500
TZOFFSETTO:-0600
TZNAME:CST
DTSTART:20251102T070000
END:STANDARD
BEGIN:DAYLIGHT
TZOFFSETFROM:-0600
TZOFFSETTO:-0500
TZNAME:CDT
DTSTART:20260308T080000
END:DAYLIGHT
BEGIN:STANDARD
TZOFFSETFROM:-0500
TZOFFSETTO:-0600
TZNAME:CST
DTSTART:20261101T070000
END:STANDARD
BEGIN:DAYLIGHT
TZOFFSETFROM:-0600
TZOFFSETTO:-0500
TZNAME:CDT
DTSTART:20270314T080000
END:DAYLIGHT
BEGIN:STANDARD
TZOFFSETFROM:-0500
TZOFFSETTO:-0600
TZNAME:CST
DTSTART:20271107T070000
END:STANDARD
END:VTIMEZONE
BEGIN:VEVENT
DTSTART;TZID=America/Chicago:20260130T120000
DTEND;TZID=America/Chicago:20260130T150000
DTSTAMP:20260420T071102
CREATED:20260121T151933Z
LAST-MODIFIED:20260130T025602Z
UID:10000464-1769774400-1769785200@dynamicdrips.com
SUMMARY:Glow and Flow at Hjem Aesthetics
DESCRIPTION:Join us at Hjem Aesthetics for a special collaboration focused on feeling good from the inside out! Enjoy 15% discount on IV Infusions and Vitamin injections and free B12 Injections!
URL:https://dynamicdrips.com/event/glow-and-flow-at-hjem-aesthetics/
LOCATION:Hjem Aesthetics\, 200 3rd Ave S\, Minneapolis\, MN\, United States
GEO:44.980995;-93.263236
X-APPLE-STRUCTURED-LOCATION;VALUE=URI;X-ADDRESS=Hjem Aesthetics 200 3rd Ave S Minneapolis MN United States;X-APPLE-RADIUS=500;X-TITLE=200 3rd Ave S:geo:-93.263236,44.980995
END:VEVENT
END:VCALENDAR