

BEGIN:VCALENDAR
VERSION:2.0
PRODID:-//Dynamic Drips - ECPv6.15.20//NONSGML v1.0//EN
CALSCALE:GREGORIAN
METHOD:PUBLISH
X-WR-CALNAME:Dynamic Drips
X-ORIGINAL-URL:https://dynamicdrips.com
X-WR-CALDESC:Events for Dynamic Drips
REFRESH-INTERVAL;VALUE=DURATION:PT1H
X-Robots-Tag:noindex
X-PUBLISHED-TTL:PT1H
BEGIN:VTIMEZONE
TZID:America/Chicago
BEGIN:DAYLIGHT
TZOFFSETFROM:-0600
TZOFFSETTO:-0500
TZNAME:CDT
DTSTART:20250309T080000
END:DAYLIGHT
BEGIN:STANDARD
TZOFFSETFROM:-0500
TZOFFSETTO:-0600
TZNAME:CST
DTSTART:20251102T070000
END:STANDARD
BEGIN:DAYLIGHT
TZOFFSETFROM:-0600
TZOFFSETTO:-0500
TZNAME:CDT
DTSTART:20260308T080000
END:DAYLIGHT
BEGIN:STANDARD
TZOFFSETFROM:-0500
TZOFFSETTO:-0600
TZNAME:CST
DTSTART:20261101T070000
END:STANDARD
BEGIN:DAYLIGHT
TZOFFSETFROM:-0600
TZOFFSETTO:-0500
TZNAME:CDT
DTSTART:20270314T080000
END:DAYLIGHT
BEGIN:STANDARD
TZOFFSETFROM:-0500
TZOFFSETTO:-0600
TZNAME:CST
DTSTART:20271107T070000
END:STANDARD
END:VTIMEZONE
BEGIN:VEVENT
DTSTART;TZID=America/Chicago:20260411T090000
DTEND;TZID=America/Chicago:20260411T120000
DTSTAMP:20260420T041242
CREATED:20260319T173920Z
LAST-MODIFIED:20260411T024153Z
UID:10000502-1775898000-1775908800@dynamicdrips.com
SUMMARY:Los Campeones Burnsville | ReBuild Recovery Pop-up
DESCRIPTION:Dynamic Drips is popping up at Los Campeones – Burnsville in collaboration with Rebuild Recovery. Stop by for mobile IV hydration and vitamin injections designed to support recovery\, performance\, and overall wellness. Whether you’re finishing a workout or prioritizing recovery\, we’ll be onsite to help you refuel and recharge.
URL:https://dynamicdrips.com/event/los-campeones-burnsville-rebuild-recovery-pop-up-4/
LOCATION:Los Campeones Gym Burnsville\, 14301 W Burnsville Pkwy\, Burnsville\, MN\, United States
GEO:44.743512;-93.323424
X-APPLE-STRUCTURED-LOCATION;VALUE=URI;X-ADDRESS=Los Campeones Gym Burnsville 14301 W Burnsville Pkwy Burnsville MN United States;X-APPLE-RADIUS=500;X-TITLE=14301 W Burnsville Pkwy:geo:-93.323424,44.743512
END:VEVENT
BEGIN:VEVENT
DTSTART;TZID=America/Chicago:20260314T090000
DTEND;TZID=America/Chicago:20260314T120000
DTSTAMP:20260420T041242
CREATED:20260227T023158Z
LAST-MODIFIED:20260302T133556Z
UID:10000492-1773478800-1773489600@dynamicdrips.com
SUMMARY:Los Campeones Burnsville | ReBuild Recovery Pop-up
DESCRIPTION:Dynamic Drips is popping up at Los Campeones – Burnsville in collaboration with Rebuild Recovery. Stop by for mobile IV hydration and vitamin injections designed to support recovery\, performance\, and overall wellness. Whether you’re finishing a workout or prioritizing recovery\, we’ll be onsite to help you refuel and recharge.
URL:https://dynamicdrips.com/event/los-campeones-burnsville-rebuild-recovery-pop-up-2/
LOCATION:Los Campeones Gym Burnsville\, 14301 W Burnsville Pkwy\, Burnsville\, MN\, United States
GEO:44.743512;-93.323424
X-APPLE-STRUCTURED-LOCATION;VALUE=URI;X-ADDRESS=Los Campeones Gym Burnsville 14301 W Burnsville Pkwy Burnsville MN United States;X-APPLE-RADIUS=500;X-TITLE=14301 W Burnsville Pkwy:geo:-93.323424,44.743512
END:VEVENT
END:VCALENDAR