

BEGIN:VCALENDAR
VERSION:2.0
PRODID:-//Dynamic Drips - ECPv6.15.20//NONSGML v1.0//EN
CALSCALE:GREGORIAN
METHOD:PUBLISH
X-WR-CALNAME:Dynamic Drips
X-ORIGINAL-URL:https://dynamicdrips.com
X-WR-CALDESC:Events for Dynamic Drips
REFRESH-INTERVAL;VALUE=DURATION:PT1H
X-Robots-Tag:noindex
X-PUBLISHED-TTL:PT1H
BEGIN:VTIMEZONE
TZID:America/Chicago
BEGIN:DAYLIGHT
TZOFFSETFROM:-0600
TZOFFSETTO:-0500
TZNAME:CDT
DTSTART:20250309T080000
END:DAYLIGHT
BEGIN:STANDARD
TZOFFSETFROM:-0500
TZOFFSETTO:-0600
TZNAME:CST
DTSTART:20251102T070000
END:STANDARD
BEGIN:DAYLIGHT
TZOFFSETFROM:-0600
TZOFFSETTO:-0500
TZNAME:CDT
DTSTART:20260308T080000
END:DAYLIGHT
BEGIN:STANDARD
TZOFFSETFROM:-0500
TZOFFSETTO:-0600
TZNAME:CST
DTSTART:20261101T070000
END:STANDARD
BEGIN:DAYLIGHT
TZOFFSETFROM:-0600
TZOFFSETTO:-0500
TZNAME:CDT
DTSTART:20270314T080000
END:DAYLIGHT
BEGIN:STANDARD
TZOFFSETFROM:-0500
TZOFFSETTO:-0600
TZNAME:CST
DTSTART:20271107T070000
END:STANDARD
END:VTIMEZONE
BEGIN:VEVENT
DTSTART;TZID=America/Chicago:20260305T160000
DTEND;TZID=America/Chicago:20260305T190000
DTSTAMP:20260420T054332
CREATED:20260204T150514Z
LAST-MODIFIED:20260305T201317Z
UID:10000478-1772726400-1772737200@dynamicdrips.com
SUMMARY:Mainstream Boutique Pop-Up
DESCRIPTION:Dynamic Drips will be on-site with our mobile wellness van offering IV hydration and wellness services. Enjoy 15% off all services plus a complimentary Vitamin D3 injection to support energy\, immunity\, and overall well-being!
URL:https://dynamicdrips.com/event/mainstream-boutique-pop-up/
LOCATION:Mainstream Boutique Golden Valley\, 679 Winnetka Ave N\, Minneapolis\, MN\, United States
GEO:44.986525;-93.38037
X-APPLE-STRUCTURED-LOCATION;VALUE=URI;X-ADDRESS=Mainstream Boutique Golden Valley 679 Winnetka Ave N Minneapolis MN United States;X-APPLE-RADIUS=500;X-TITLE=679 Winnetka Ave N:geo:-93.38037,44.986525
END:VEVENT
END:VCALENDAR