

BEGIN:VCALENDAR
VERSION:2.0
PRODID:-//Dynamic Drips - ECPv6.15.20//NONSGML v1.0//EN
CALSCALE:GREGORIAN
METHOD:PUBLISH
X-ORIGINAL-URL:https://dynamicdrips.com
X-WR-CALDESC:Events for Dynamic Drips
REFRESH-INTERVAL;VALUE=DURATION:PT1H
X-Robots-Tag:noindex
X-PUBLISHED-TTL:PT1H
BEGIN:VTIMEZONE
TZID:America/Chicago
BEGIN:DAYLIGHT
TZOFFSETFROM:-0600
TZOFFSETTO:-0500
TZNAME:CDT
DTSTART:20250309T080000
END:DAYLIGHT
BEGIN:STANDARD
TZOFFSETFROM:-0500
TZOFFSETTO:-0600
TZNAME:CST
DTSTART:20251102T070000
END:STANDARD
BEGIN:DAYLIGHT
TZOFFSETFROM:-0600
TZOFFSETTO:-0500
TZNAME:CDT
DTSTART:20260308T080000
END:DAYLIGHT
BEGIN:STANDARD
TZOFFSETFROM:-0500
TZOFFSETTO:-0600
TZNAME:CST
DTSTART:20261101T070000
END:STANDARD
BEGIN:DAYLIGHT
TZOFFSETFROM:-0600
TZOFFSETTO:-0500
TZNAME:CDT
DTSTART:20270314T080000
END:DAYLIGHT
BEGIN:STANDARD
TZOFFSETFROM:-0500
TZOFFSETTO:-0600
TZNAME:CST
DTSTART:20271107T070000
END:STANDARD
END:VTIMEZONE
BEGIN:VEVENT
DTSTART;TZID=America/Chicago:20260131T090000
DTEND;TZID=America/Chicago:20260131T160000
DTSTAMP:20260420T131302
CREATED:20260127T023859Z
LAST-MODIFIED:20260131T022947Z
UID:10000470-1769850000-1769875200@dynamicdrips.com
SUMMARY:Transcending Conference
DESCRIPTION:Transcending is a conference designed to explore and unlock the future of health\, healing & human performance. Innovation is not lacking in the field of natural remedies. Some are newly discovered and some were overlooked as to their lack of profitability and patents. We are excited to start the conversation in the Pepin area and to create a community of like- minded people seeking the best possible outcomes in our pursuit of pain free living. Let it begin at Woods and Company and expand to a daily way of life.\nJoin us and learn more – Dynamic Drips will be on-site offering 15% off all services!
URL:https://dynamicdrips.com/event/transcending-conference/
LOCATION:N1153 County Rd N\, Pepin\, WI\, United States
GEO:44.509108;-92.131821
END:VEVENT
END:VCALENDAR