

BEGIN:VCALENDAR
VERSION:2.0
PRODID:-//Dynamic Drips - ECPv6.15.20//NONSGML v1.0//EN
CALSCALE:GREGORIAN
METHOD:PUBLISH
X-WR-CALNAME:Dynamic Drips
X-ORIGINAL-URL:https://dynamicdrips.com
X-WR-CALDESC:Events for Dynamic Drips
REFRESH-INTERVAL;VALUE=DURATION:PT1H
X-Robots-Tag:noindex
X-PUBLISHED-TTL:PT1H
BEGIN:VTIMEZONE
TZID:America/Chicago
BEGIN:DAYLIGHT
TZOFFSETFROM:-0600
TZOFFSETTO:-0500
TZNAME:CDT
DTSTART:20240310T080000
END:DAYLIGHT
BEGIN:STANDARD
TZOFFSETFROM:-0500
TZOFFSETTO:-0600
TZNAME:CST
DTSTART:20241103T070000
END:STANDARD
BEGIN:DAYLIGHT
TZOFFSETFROM:-0600
TZOFFSETTO:-0500
TZNAME:CDT
DTSTART:20250309T080000
END:DAYLIGHT
BEGIN:STANDARD
TZOFFSETFROM:-0500
TZOFFSETTO:-0600
TZNAME:CST
DTSTART:20251102T070000
END:STANDARD
BEGIN:DAYLIGHT
TZOFFSETFROM:-0600
TZOFFSETTO:-0500
TZNAME:CDT
DTSTART:20260308T080000
END:DAYLIGHT
BEGIN:STANDARD
TZOFFSETFROM:-0500
TZOFFSETTO:-0600
TZNAME:CST
DTSTART:20261101T070000
END:STANDARD
END:VTIMEZONE
BEGIN:VEVENT
DTSTART;TZID=America/Chicago:20251115T080000
DTEND;TZID=America/Chicago:20251115T130000
DTSTAMP:20260420T145344
CREATED:20251022T212609Z
LAST-MODIFIED:20251115T100323Z
UID:10000423-1763193600-1763211600@dynamicdrips.com
SUMMARY:Orangetheory Fitness Pop-up
DESCRIPTION:Dynamic Drips is popping up at Orangetheory Fitness to support your post-workout recovery and energy! Stop by after class for discounted IV hydration and vitamin injections. Perfect for boosting performance\, hydration\, and muscle recovery. Quick\, convenient\, and right outside the studio!
URL:https://dynamicdrips.com/event/orangetheory-fitness-pop-up-2/
LOCATION:Orangetheory Fitness\, 5602 Cedar Lake Rd S\, Minneapolis\, MN\, United States
GEO:44.965257;-93.356646
X-APPLE-STRUCTURED-LOCATION;VALUE=URI;X-ADDRESS=Orangetheory Fitness 5602 Cedar Lake Rd S Minneapolis MN United States;X-APPLE-RADIUS=500;X-TITLE=5602 Cedar Lake Rd S:geo:-93.356646,44.965257
END:VEVENT
BEGIN:VEVENT
DTSTART;TZID=America/Chicago:20251102T080000
DTEND;TZID=America/Chicago:20251102T130000
DTSTAMP:20260420T145344
CREATED:20251022T212608Z
LAST-MODIFIED:20251102T075009Z
UID:10000420-1762070400-1762088400@dynamicdrips.com
SUMMARY:Orangetheory Fitness Pop-up
DESCRIPTION:Dynamic Drips is popping up at Orangetheory Fitness to support your post-workout recovery and energy! Stop by after class for discounted IV hydration and vitamin injections. Perfect for boosting performance\, hydration\, and muscle recovery. Quick\, convenient\, and right outside the studio!
URL:https://dynamicdrips.com/event/orangetheory-fitness-pop-up/
LOCATION:Orangetheory Fitness\, 5602 Cedar Lake Rd S\, Minneapolis\, MN\, United States
GEO:44.965257;-93.356646
X-APPLE-STRUCTURED-LOCATION;VALUE=URI;X-ADDRESS=Orangetheory Fitness 5602 Cedar Lake Rd S Minneapolis MN United States;X-APPLE-RADIUS=500;X-TITLE=5602 Cedar Lake Rd S:geo:-93.356646,44.965257
END:VEVENT
END:VCALENDAR