

BEGIN:VCALENDAR
VERSION:2.0
PRODID:-//Dynamic Drips - ECPv6.15.20//NONSGML v1.0//EN
CALSCALE:GREGORIAN
METHOD:PUBLISH
X-ORIGINAL-URL:https://dynamicdrips.com
X-WR-CALDESC:Events for Dynamic Drips
REFRESH-INTERVAL;VALUE=DURATION:PT1H
X-Robots-Tag:noindex
X-PUBLISHED-TTL:PT1H
BEGIN:VTIMEZONE
TZID:America/Chicago
BEGIN:DAYLIGHT
TZOFFSETFROM:-0600
TZOFFSETTO:-0500
TZNAME:CDT
DTSTART:20240310T080000
END:DAYLIGHT
BEGIN:STANDARD
TZOFFSETFROM:-0500
TZOFFSETTO:-0600
TZNAME:CST
DTSTART:20241103T070000
END:STANDARD
BEGIN:DAYLIGHT
TZOFFSETFROM:-0600
TZOFFSETTO:-0500
TZNAME:CDT
DTSTART:20250309T080000
END:DAYLIGHT
BEGIN:STANDARD
TZOFFSETFROM:-0500
TZOFFSETTO:-0600
TZNAME:CST
DTSTART:20251102T070000
END:STANDARD
BEGIN:DAYLIGHT
TZOFFSETFROM:-0600
TZOFFSETTO:-0500
TZNAME:CDT
DTSTART:20260308T080000
END:DAYLIGHT
BEGIN:STANDARD
TZOFFSETFROM:-0500
TZOFFSETTO:-0600
TZNAME:CST
DTSTART:20261101T070000
END:STANDARD
END:VTIMEZONE
BEGIN:VEVENT
DTSTART;TZID=America/Chicago:20251113T080000
DTEND;TZID=America/Chicago:20251113T153000
DTSTAMP:20260420T071822
CREATED:20251010T185205Z
LAST-MODIFIED:20251113T094339Z
UID:10000417-1763020800-1763047800@dynamicdrips.com
SUMMARY:2nd Annual Women in Business Summit- Cottage Grove
DESCRIPTION:Join us for the 2nd Annual Women in Business Summit\, a dynamic event designed to inspire\, educate\, and empower women in our community. Hosted by the Cottage Grove Area Chamber of Commerce and the Women in Business organizations. This summit offers a wealth of learning opportunities\, insightful speakers\, and valuable resources. Stop by the Vendor marketplace and visit the Dynamic Drips booth for discounted specials!
URL:https://dynamicdrips.com/event/2nd-annual-women-in-business-summit-cottage-grove/
LOCATION:River Oaks Golf Course and Event Center\, U.S. 61\, Cottage Grove\, MN\, USA
END:VEVENT
END:VCALENDAR