

BEGIN:VCALENDAR
VERSION:2.0
PRODID:-//Dynamic Drips - ECPv6.15.20//NONSGML v1.0//EN
CALSCALE:GREGORIAN
METHOD:PUBLISH
X-WR-CALNAME:Dynamic Drips
X-ORIGINAL-URL:https://dynamicdrips.com
X-WR-CALDESC:Events for Dynamic Drips
REFRESH-INTERVAL;VALUE=DURATION:PT1H
X-Robots-Tag:noindex
X-PUBLISHED-TTL:PT1H
BEGIN:VTIMEZONE
TZID:America/Chicago
BEGIN:DAYLIGHT
TZOFFSETFROM:-0600
TZOFFSETTO:-0500
TZNAME:CDT
DTSTART:20240310T080000
END:DAYLIGHT
BEGIN:STANDARD
TZOFFSETFROM:-0500
TZOFFSETTO:-0600
TZNAME:CST
DTSTART:20241103T070000
END:STANDARD
BEGIN:DAYLIGHT
TZOFFSETFROM:-0600
TZOFFSETTO:-0500
TZNAME:CDT
DTSTART:20250309T080000
END:DAYLIGHT
BEGIN:STANDARD
TZOFFSETFROM:-0500
TZOFFSETTO:-0600
TZNAME:CST
DTSTART:20251102T070000
END:STANDARD
BEGIN:DAYLIGHT
TZOFFSETFROM:-0600
TZOFFSETTO:-0500
TZNAME:CDT
DTSTART:20260308T080000
END:DAYLIGHT
BEGIN:STANDARD
TZOFFSETFROM:-0500
TZOFFSETTO:-0600
TZNAME:CST
DTSTART:20261101T070000
END:STANDARD
END:VTIMEZONE
BEGIN:VEVENT
DTSTART;TZID=America/Chicago:20251204T160000
DTEND;TZID=America/Chicago:20251204T200000
DTSTAMP:20260422T090608
CREATED:20251029T064856Z
LAST-MODIFIED:20251204T130700Z
UID:10000427-1764864000-1764878400@dynamicdrips.com
SUMMARY:Winter Wellness Expo
DESCRIPTION:Join us for the Winter Wellness Expo. Featuring many local wellness businesses\, raffles\, specials and networking opportunities. Stop by the Dynamic Drips Booth for discount services!
URL:https://dynamicdrips.com/event/winter-wellness-expo/
LOCATION:River Oaks Golf Course and Event Center\, Cottage Grove\, MN\, United States
GEO:44.841634;-92.881597
END:VEVENT
BEGIN:VEVENT
DTSTART;TZID=America/Chicago:20250801T070000
DTEND;TZID=America/Chicago:20250801T160000
DTSTAMP:20260422T090608
CREATED:20250522T074832Z
LAST-MODIFIED:20250801T082657Z
UID:10000281-1754031600-1754064000@dynamicdrips.com
SUMMARY:Hometown Heros Golf Fundraising Tournament
DESCRIPTION:
URL:https://dynamicdrips.com/event/hometown-heros-golf-fundraising-tournament/
LOCATION:River Oaks Golf Course and Event Center\, Cottage Grove\, MN\, United States
GEO:44.841634;-92.881597
END:VEVENT
END:VCALENDAR