

BEGIN:VCALENDAR
VERSION:2.0
PRODID:-//Dynamic Drips - ECPv6.15.20//NONSGML v1.0//EN
CALSCALE:GREGORIAN
METHOD:PUBLISH
X-ORIGINAL-URL:https://dynamicdrips.com
X-WR-CALDESC:Events for Dynamic Drips
REFRESH-INTERVAL;VALUE=DURATION:PT1H
X-Robots-Tag:noindex
X-PUBLISHED-TTL:PT1H
BEGIN:VTIMEZONE
TZID:America/Chicago
BEGIN:DAYLIGHT
TZOFFSETFROM:-0600
TZOFFSETTO:-0500
TZNAME:CDT
DTSTART:20240310T080000
END:DAYLIGHT
BEGIN:STANDARD
TZOFFSETFROM:-0500
TZOFFSETTO:-0600
TZNAME:CST
DTSTART:20241103T070000
END:STANDARD
BEGIN:DAYLIGHT
TZOFFSETFROM:-0600
TZOFFSETTO:-0500
TZNAME:CDT
DTSTART:20250309T080000
END:DAYLIGHT
BEGIN:STANDARD
TZOFFSETFROM:-0500
TZOFFSETTO:-0600
TZNAME:CST
DTSTART:20251102T070000
END:STANDARD
BEGIN:DAYLIGHT
TZOFFSETFROM:-0600
TZOFFSETTO:-0500
TZNAME:CDT
DTSTART:20260308T080000
END:DAYLIGHT
BEGIN:STANDARD
TZOFFSETFROM:-0500
TZOFFSETTO:-0600
TZNAME:CST
DTSTART:20261101T070000
END:STANDARD
BEGIN:DAYLIGHT
TZOFFSETFROM:-0600
TZOFFSETTO:-0500
TZNAME:CDT
DTSTART:20270314T080000
END:DAYLIGHT
BEGIN:STANDARD
TZOFFSETFROM:-0500
TZOFFSETTO:-0600
TZNAME:CST
DTSTART:20271107T070000
END:STANDARD
END:VTIMEZONE
BEGIN:VEVENT
DTSTART;TZID=America/Chicago:20260212T150000
DTEND;TZID=America/Chicago:20260212T200000
DTSTAMP:20260420T040255
CREATED:20260205T023022Z
LAST-MODIFIED:20260211T144841Z
UID:10000479-1770908400-1770926400@dynamicdrips.com
SUMMARY:Galentine’s Night- Salon Fusion
DESCRIPTION:Grab your bestie\, your sister\, or your gal pal – it’s time to sip\, sparkle\, and pamper together! Dynamic drips will be offering event only special pricing of 15% off all services.
URL:https://dynamicdrips.com/event/galentines-night/
LOCATION:Salon Fusion\, 7750 Harkness Ave S\, Cottage Grove\, MN\, United States
GEO:44.837704;-92.959517
X-APPLE-STRUCTURED-LOCATION;VALUE=URI;X-ADDRESS=Salon Fusion 7750 Harkness Ave S Cottage Grove MN United States;X-APPLE-RADIUS=500;X-TITLE=7750 Harkness Ave S:geo:-92.959517,44.837704
END:VEVENT
BEGIN:VEVENT
DTSTART;TZID=America/Chicago:20251213T090000
DTEND;TZID=America/Chicago:20251213T150000
DTSTAMP:20260420T040255
CREATED:20251029T064910Z
LAST-MODIFIED:20251213T144438Z
UID:10000429-1765616400-1765638000@dynamicdrips.com
SUMMARY:Salon Fusion Holiday Pop-Up
DESCRIPTION:Join us as Salon Fusion for a Holiday Pop-up! Dynamic Drips will be there featuring our special event pricing of 15% off infusions and $30 Injections. Book other services at Salon Fusion here- Salon & Spa Inver Grove Heights MN – Salon Fusion
URL:https://dynamicdrips.com/event/salon-fusion-holiday-pop-up-2/
LOCATION:Salon Fusion\, 7750 Harkness Ave S\, Cottage Grove\, MN\, United States
GEO:44.837704;-92.959517
X-APPLE-STRUCTURED-LOCATION;VALUE=URI;X-ADDRESS=Salon Fusion 7750 Harkness Ave S Cottage Grove MN United States;X-APPLE-RADIUS=500;X-TITLE=7750 Harkness Ave S:geo:-92.959517,44.837704
END:VEVENT
BEGIN:VEVENT
DTSTART;TZID=America/Chicago:20251206T090000
DTEND;TZID=America/Chicago:20251206T150000
DTSTAMP:20260420T040255
CREATED:20251029T064909Z
LAST-MODIFIED:20251206T132615Z
UID:10000428-1765011600-1765033200@dynamicdrips.com
SUMMARY:Salon Fusion Holiday Pop-up
DESCRIPTION:Join us as Salon Fusion for a Holiday Pop-up! Dynamic Drips will be there featuring our 15% off infusions and $30 Injections. Book other services at Salon Fusion here- Salon & Spa Inver Grove Heights MN – Salon Fusion
URL:https://dynamicdrips.com/event/salon-fusion-holiday-pop-up/
LOCATION:Salon Fusion\, 7750 Harkness Ave S\, Cottage Grove\, MN\, United States
GEO:44.837704;-92.959517
X-APPLE-STRUCTURED-LOCATION;VALUE=URI;X-ADDRESS=Salon Fusion 7750 Harkness Ave S Cottage Grove MN United States;X-APPLE-RADIUS=500;X-TITLE=7750 Harkness Ave S:geo:-92.959517,44.837704
END:VEVENT
END:VCALENDAR