

BEGIN:VCALENDAR
VERSION:2.0
PRODID:-//Dynamic Drips - ECPv6.15.20//NONSGML v1.0//EN
CALSCALE:GREGORIAN
METHOD:PUBLISH
X-WR-CALNAME:Dynamic Drips
X-ORIGINAL-URL:https://dynamicdrips.com
X-WR-CALDESC:Events for Dynamic Drips
REFRESH-INTERVAL;VALUE=DURATION:PT1H
X-Robots-Tag:noindex
X-PUBLISHED-TTL:PT1H
BEGIN:VTIMEZONE
TZID:America/Chicago
BEGIN:DAYLIGHT
TZOFFSETFROM:-0600
TZOFFSETTO:-0500
TZNAME:CDT
DTSTART:20250309T080000
END:DAYLIGHT
BEGIN:STANDARD
TZOFFSETFROM:-0500
TZOFFSETTO:-0600
TZNAME:CST
DTSTART:20251102T070000
END:STANDARD
BEGIN:DAYLIGHT
TZOFFSETFROM:-0600
TZOFFSETTO:-0500
TZNAME:CDT
DTSTART:20260308T080000
END:DAYLIGHT
BEGIN:STANDARD
TZOFFSETFROM:-0500
TZOFFSETTO:-0600
TZNAME:CST
DTSTART:20261101T070000
END:STANDARD
BEGIN:DAYLIGHT
TZOFFSETFROM:-0600
TZOFFSETTO:-0500
TZNAME:CDT
DTSTART:20270314T080000
END:DAYLIGHT
BEGIN:STANDARD
TZOFFSETFROM:-0500
TZOFFSETTO:-0600
TZNAME:CST
DTSTART:20271107T070000
END:STANDARD
END:VTIMEZONE
BEGIN:VEVENT
DTSTART;TZID=America/Chicago:20260217T180000
DTEND;TZID=America/Chicago:20260217T210000
DTSTAMP:20260420T040820
CREATED:20260211T144859Z
LAST-MODIFIED:20260218T023959Z
UID:10000483-1771351200-1771362000@dynamicdrips.com
SUMMARY:New Moon Gathering
DESCRIPTION:Join us for a mystical evening of insight\, healing\, and energetic renewal. 6-7pm Start the night with tarot readings\, aura photography\, and tea. Followed by a powerful session of astrology insights\, guided breathwork\, and a relaxing closing sound bath 7-9pm.\nDynamic Drips will be onsite offering complimentary Vitamin D injections to help you recharge and shine from the inside out!
URL:https://dynamicdrips.com/event/new-moon-gathering/
LOCATION:STUDIIY023 2319 Hennepin Ave. S\, Minneapolis\, MN\, United States
GEO:44.971871;-93.302471
END:VEVENT
END:VCALENDAR