

BEGIN:VCALENDAR
VERSION:2.0
PRODID:-//Dynamic Drips - ECPv6.15.20//NONSGML v1.0//EN
CALSCALE:GREGORIAN
METHOD:PUBLISH
X-WR-CALNAME:Dynamic Drips
X-ORIGINAL-URL:https://dynamicdrips.com
X-WR-CALDESC:Events for Dynamic Drips
REFRESH-INTERVAL;VALUE=DURATION:PT1H
X-Robots-Tag:noindex
X-PUBLISHED-TTL:PT1H
BEGIN:VTIMEZONE
TZID:America/Chicago
BEGIN:DAYLIGHT
TZOFFSETFROM:-0600
TZOFFSETTO:-0500
TZNAME:CDT
DTSTART:20240310T080000
END:DAYLIGHT
BEGIN:STANDARD
TZOFFSETFROM:-0500
TZOFFSETTO:-0600
TZNAME:CST
DTSTART:20241103T070000
END:STANDARD
BEGIN:DAYLIGHT
TZOFFSETFROM:-0600
TZOFFSETTO:-0500
TZNAME:CDT
DTSTART:20250309T080000
END:DAYLIGHT
BEGIN:STANDARD
TZOFFSETFROM:-0500
TZOFFSETTO:-0600
TZNAME:CST
DTSTART:20251102T070000
END:STANDARD
BEGIN:DAYLIGHT
TZOFFSETFROM:-0600
TZOFFSETTO:-0500
TZNAME:CDT
DTSTART:20260308T080000
END:DAYLIGHT
BEGIN:STANDARD
TZOFFSETFROM:-0500
TZOFFSETTO:-0600
TZNAME:CST
DTSTART:20261101T070000
END:STANDARD
BEGIN:DAYLIGHT
TZOFFSETFROM:-0600
TZOFFSETTO:-0500
TZNAME:CDT
DTSTART:20270314T080000
END:DAYLIGHT
BEGIN:STANDARD
TZOFFSETFROM:-0500
TZOFFSETTO:-0600
TZNAME:CST
DTSTART:20271107T070000
END:STANDARD
END:VTIMEZONE
BEGIN:VEVENT
DTSTART;TZID=America/Chicago:20260402T160000
DTEND;TZID=America/Chicago:20260402T180000
DTSTAMP:20260420T021548
CREATED:20260319T173919Z
LAST-MODIFIED:20260402T150208Z
UID:10000501-1775145600-1775152800@dynamicdrips.com
SUMMARY:Meet and Greet Happy Hour- EastWest Acupuncture
DESCRIPTION:Join us for an exciting Happy Hour at EastWest Acupuncture as they celebrate the growth of their clinic! Dynamic Drips is proud to partner with their team—stop by to connect\, learn more about our services\, and enjoy exclusive event specials!
URL:https://dynamicdrips.com/event/meet-and-greet-happy-hour-eastwest-acupuncture/
LOCATION:TCM EastWest Acupuncture Clinics\, 675 Water St\, Excelsior\, MN\, United States
GEO:44.898301;-93.570543
X-APPLE-STRUCTURED-LOCATION;VALUE=URI;X-ADDRESS=TCM EastWest Acupuncture Clinics 675 Water St Excelsior MN United States;X-APPLE-RADIUS=500;X-TITLE=675 Water St:geo:-93.570543,44.898301
END:VEVENT
BEGIN:VEVENT
DTSTART;TZID=America/Chicago:20260122T160000
DTEND;TZID=America/Chicago:20260122T190000
DTSTAMP:20260420T021548
CREATED:20251224T192252Z
LAST-MODIFIED:20260121T151930Z
UID:10000452-1769097600-1769108400@dynamicdrips.com
SUMMARY:TCM East West Acupuncture
DESCRIPTION:Join us for a Pop-Up at East West Acupuncture on January 22 for an evening of wellness and client appreciation. Enjoy light appetizers and wine while meeting an additional naturopathic doctor joining the practice and learning more about expanded integrative services.\nDynamic Drips will be onsite offering education on hydration and wellness\, along with 15% off all services during the event.
URL:https://dynamicdrips.com/event/tcm-east-west-acupuncture/
LOCATION:TCM EastWest Acupuncture Clinics\, 675 Water St\, Excelsior\, MN\, United States
GEO:44.898301;-93.570543
X-APPLE-STRUCTURED-LOCATION;VALUE=URI;X-ADDRESS=TCM EastWest Acupuncture Clinics 675 Water St Excelsior MN United States;X-APPLE-RADIUS=500;X-TITLE=675 Water St:geo:-93.570543,44.898301
END:VEVENT
BEGIN:VEVENT
DTSTART;TZID=America/Chicago:20251115T100000
DTEND;TZID=America/Chicago:20251115T130000
DTSTAMP:20260420T021548
CREATED:20251029T064856Z
LAST-MODIFIED:20251115T100323Z
UID:10000426-1763200800-1763211600@dynamicdrips.com
SUMMARY:EastWest Acupuncture Holiday Wellness Pop-Up
DESCRIPTION:Dynamic Drips is joining TCM EastWest Acupuncture clinic for a special Holiday Wellness Pop-Up. Featuring a curated group of wellness focused businesses. Celebrate the season with restorative offerings\, holistic health services\, and festive vibes. We’ll be offering discounted IVs and vitamin injections to keep you energized and balanced through the holidays!
URL:https://dynamicdrips.com/event/holiday-pop-up/
LOCATION:TCM EastWest Acupuncture Clinics\, 675 Water St\, Excelsior\, MN\, United States
GEO:44.898301;-93.570543
X-APPLE-STRUCTURED-LOCATION;VALUE=URI;X-ADDRESS=TCM EastWest Acupuncture Clinics 675 Water St Excelsior MN United States;X-APPLE-RADIUS=500;X-TITLE=675 Water St:geo:-93.570543,44.898301
END:VEVENT
END:VCALENDAR