

BEGIN:VCALENDAR
VERSION:2.0
PRODID:-//Dynamic Drips - ECPv6.15.20//NONSGML v1.0//EN
CALSCALE:GREGORIAN
METHOD:PUBLISH
X-ORIGINAL-URL:https://dynamicdrips.com
X-WR-CALDESC:Events for Dynamic Drips
REFRESH-INTERVAL;VALUE=DURATION:PT1H
X-Robots-Tag:noindex
X-PUBLISHED-TTL:PT1H
BEGIN:VTIMEZONE
TZID:America/Chicago
BEGIN:DAYLIGHT
TZOFFSETFROM:-0600
TZOFFSETTO:-0500
TZNAME:CDT
DTSTART:20250309T080000
END:DAYLIGHT
BEGIN:STANDARD
TZOFFSETFROM:-0500
TZOFFSETTO:-0600
TZNAME:CST
DTSTART:20251102T070000
END:STANDARD
BEGIN:DAYLIGHT
TZOFFSETFROM:-0600
TZOFFSETTO:-0500
TZNAME:CDT
DTSTART:20260308T080000
END:DAYLIGHT
BEGIN:STANDARD
TZOFFSETFROM:-0500
TZOFFSETTO:-0600
TZNAME:CST
DTSTART:20261101T070000
END:STANDARD
BEGIN:DAYLIGHT
TZOFFSETFROM:-0600
TZOFFSETTO:-0500
TZNAME:CDT
DTSTART:20270314T080000
END:DAYLIGHT
BEGIN:STANDARD
TZOFFSETFROM:-0500
TZOFFSETTO:-0600
TZNAME:CST
DTSTART:20271107T070000
END:STANDARD
END:VTIMEZONE
BEGIN:VEVENT
DTSTART;TZID=America/Chicago:20260519T160000
DTEND;TZID=America/Chicago:20260519T180000
DTSTAMP:20260420T002548
CREATED:20260410T145528Z
LAST-MODIFIED:20260419T143146Z
UID:10000516-1779206400-1779213600@dynamicdrips.com
SUMMARY:EastWest Acupuncture
DESCRIPTION:Join us for an exciting Happy Hour at EastWest Acupuncture! Dynamic Drips is proud to partner with their team—stop by to connect\, learn more about our services\, and enjoy exclusive event specials!
URL:https://dynamicdrips.com/event/eastwest-acupuncture/
LOCATION:TCM EastWest Acupuncture Clinics\, 675 Water St\, Excelsior\, MN\, United States
GEO:44.898301;-93.570543
X-APPLE-STRUCTURED-LOCATION;VALUE=URI;X-ADDRESS=TCM EastWest Acupuncture Clinics 675 Water St Excelsior MN United States;X-APPLE-RADIUS=500;X-TITLE=675 Water St:geo:-93.570543,44.898301
END:VEVENT
BEGIN:VEVENT
DTSTART;TZID=America/Chicago:20260617T170000
DTEND;TZID=America/Chicago:20260617T190000
DTSTAMP:20260420T002548
CREATED:20260410T145530Z
LAST-MODIFIED:20260419T143147Z
UID:10000517-1781715600-1781722800@dynamicdrips.com
SUMMARY:EastWest Acupuncture
DESCRIPTION:Join us for an exciting Happy Hour at EastWest Acupuncture! Dynamic Drips is proud to partner with their team—stop by to connect\, learn more about our services\, and enjoy exclusive event specials!
URL:https://dynamicdrips.com/event/eastwest-acupuncture-2/
LOCATION:TCM EastWest Acupuncture Clinics\, 675 Water St\, Excelsior\, MN\, United States
GEO:44.898301;-93.570543
X-APPLE-STRUCTURED-LOCATION;VALUE=URI;X-ADDRESS=TCM EastWest Acupuncture Clinics 675 Water St Excelsior MN United States;X-APPLE-RADIUS=500;X-TITLE=675 Water St:geo:-93.570543,44.898301
END:VEVENT
END:VCALENDAR