

BEGIN:VCALENDAR
VERSION:2.0
PRODID:-//Dynamic Drips - ECPv6.15.20//NONSGML v1.0//EN
CALSCALE:GREGORIAN
METHOD:PUBLISH
X-ORIGINAL-URL:https://dynamicdrips.com
X-WR-CALDESC:Events for Dynamic Drips
REFRESH-INTERVAL;VALUE=DURATION:PT1H
X-Robots-Tag:noindex
X-PUBLISHED-TTL:PT1H
BEGIN:VTIMEZONE
TZID:America/Chicago
BEGIN:DAYLIGHT
TZOFFSETFROM:-0600
TZOFFSETTO:-0500
TZNAME:CDT
DTSTART:20250309T080000
END:DAYLIGHT
BEGIN:STANDARD
TZOFFSETFROM:-0500
TZOFFSETTO:-0600
TZNAME:CST
DTSTART:20251102T070000
END:STANDARD
BEGIN:DAYLIGHT
TZOFFSETFROM:-0600
TZOFFSETTO:-0500
TZNAME:CDT
DTSTART:20260308T080000
END:DAYLIGHT
BEGIN:STANDARD
TZOFFSETFROM:-0500
TZOFFSETTO:-0600
TZNAME:CST
DTSTART:20261101T070000
END:STANDARD
BEGIN:DAYLIGHT
TZOFFSETFROM:-0600
TZOFFSETTO:-0500
TZNAME:CDT
DTSTART:20270314T080000
END:DAYLIGHT
BEGIN:STANDARD
TZOFFSETFROM:-0500
TZOFFSETTO:-0600
TZNAME:CST
DTSTART:20271107T070000
END:STANDARD
END:VTIMEZONE
BEGIN:VEVENT
DTSTART;TZID=America/Chicago:20260214T080000
DTEND;TZID=America/Chicago:20260214T120000
DTSTAMP:20260420T163455
CREATED:20260120T135010Z
LAST-MODIFIED:20260214T115746Z
UID:10000462-1771056000-1771070400@dynamicdrips.com
SUMMARY:Tressa Veona Salon Pop-up
DESCRIPTION:Tressa Veona Salon has partnered with Dynamic Drips offering IV hydration and vitamin infusions. Enhance your next salon service with an infusion for the ultimate wellness and self-care experience!
URL:https://dynamicdrips.com/event/tressa-veona-salon-pop-up-2/
LOCATION:Tressa Veona Salon\, 11 W Main St\, Madelia\, MN\, United States
GEO:44.050898;-94.417023
X-APPLE-STRUCTURED-LOCATION;VALUE=URI;X-ADDRESS=Tressa Veona Salon 11 W Main St Madelia MN United States;X-APPLE-RADIUS=500;X-TITLE=11 W Main St:geo:-94.417023,44.050898
END:VEVENT
END:VCALENDAR